Back to the "Multiple platform build/check report"
| Package 155/214 | Hostname | OS | Arch | BUILD | CHECK | BUILD BIN |
ppiStats1.2.0Tony ChiangLast Changed Date: 2007-04-24 11:21:48 -0700 Last Changed Rev: 24214 | lamb1 | Linux (SUSE 10.1) | x86_64 | OK | OK | |
| wellington | Linux (SUSE 9.2) | i686 | OK | OK | ||
| churchill | Solaris 2.9 | sparc | OK | OK | ||
| lemming | Windows Server 2003 (32-bit) | x64 | OK | WARNINGS | [ OK ] | |
| liverpool | Windows Server 2003 R2 (32-bit) | x64 | OK | WARNINGS | OK | |
| derby | Mac OS X (10.4.9) | i686 | ERROR | skipped |
| Package: ppiStats |
| Version: 1.2.0 |
| Command: D:\biocbld\bbs-2.0-bioc\R\bin\R.exe CMD INSTALL --build --library=ppiStats.BUILDBINinstdir ppiStats_1.2.0.tar.gz |
| RetCode: 0 |
| Time: 24.0 seconds |
| Status: OK |
| PackageFile: ppiStats_1.2.0.zip |
installing R.css in D:/biocbld/bbs-2.0-bioc/meat/ppiStats.BUILDBINinstdir
Using auto-selected zip options ''
---------- Making package ppiStats ------------
adding build stamp to DESCRIPTION
installing R files
installing inst files
installing man source files
installing indices
installing help
>>> Building/Updating help pages for package 'ppiStats'
Formats: text html latex example chm
assessSymmetry text html latex example chm
bpMatrix text html latex example chm
calcInOutDegStats text html latex example chm
estErrProbMethodOfMoments text html latex example chm
genBPGraph text html latex example chm
idProteinErrorType text html latex example chm
idProteinType text html latex example chm
nullDistDoublyTestedEdges text html latex example chm
twPERM text html latex example chm
Microsoft HTML Help Compiler 4.74.8702
Compiling d:\biocbld\bbs-2.0-bioc\meat\R.INSTALL.5372\ppiStats\chm\ppiStats.chm
Compile time: 0 minutes, 0 seconds
10 Topics
22 Local links
2 Internet links
1 Graphic
Created d:\biocbld\bbs-2.0-bioc\meat\R.INSTALL.5372\ppiStats\chm\ppiStats.chm, 30,405 bytes
Compression decreased file by 6,951 bytes.
adding MD5 sums
packaged installation of package 'ppiStats' as ppiStats_1.2.0.zip
* DONE (ppiStats)