Back to the "Multiple platform build/check report"
| Package 155/214 | Hostname | OS | Arch | BUILD | CHECK | BUILD BIN |
ppiStats1.2.0Tony ChiangLast Changed Date: 2007-04-24 11:21:48 -0700 Last Changed Rev: 24214 | lamb1 | Linux (SUSE 10.1) | x86_64 | [ OK ] | OK | |
| wellington | Linux (SUSE 9.2) | i686 | OK | OK | ||
| churchill | Solaris 2.9 | sparc | OK | OK | ||
| lemming | Windows Server 2003 (32-bit) | x64 | OK | WARNINGS | OK | |
| liverpool | Windows Server 2003 R2 (32-bit) | x64 | OK | WARNINGS | OK | |
| derby | Mac OS X (10.4.9) | i686 | ERROR | skipped |
| Package: ppiStats |
| Version: 1.2.0 |
| Command: /home/biocbuild/bbs-2.0-bioc/R/bin/R CMD build ppiStats |
| RetCode: 0 |
| Time: 89.7 seconds |
| Status: OK |
| PackageFile: ppiStats_1.2.0.tar.gz |
* checking for file 'ppiStats/DESCRIPTION' ... OK
* preparing 'ppiStats':
* checking DESCRIPTION meta-information ... OK
* installing the package to re-build vignettes
* Installing *source* package 'ppiStats' ...
** R
** inst
** help
>>> Building/Updating help pages for package 'ppiStats'
Formats: text html latex example
assessSymmetry text html latex example
bpMatrix text html latex example
calcInOutDegStats text html latex example
estErrProbMethodOfMoments text html latex example
genBPGraph text html latex example
idProteinErrorType text html latex example
idProteinType text html latex example
nullDistDoublyTestedEdges text html latex example
twPERM text html latex example
** building package indices ...
* DONE (ppiStats)
* creating vignettes ... OK
* removing junk files
* checking for LF line-endings in source files
* checking for empty or unneeded directories
* building 'ppiStats_1.2.0.tar.gz'