Back to the "Multiple platform build/check report"
| Package 68/214 | Hostname | OS | Arch | BUILD | CHECK | BUILD BIN |
gaggle1.4.0Paul ShannonLast Changed Date: 2007-04-24 11:21:48 -0700 Last Changed Rev: 24214 | lamb1 | Linux (SUSE 10.1) | x86_64 | OK | OK | |
| wellington | Linux (SUSE 9.2) | i686 | OK | OK | ||
| churchill | Solaris 2.9 | sparc | OK | ERROR | ||
| lemming | Windows Server 2003 (32-bit) | x64 | OK | [ OK ] | OK | |
| liverpool | Windows Server 2003 R2 (32-bit) | x64 | OK | ERROR | OK | |
| derby | Mac OS X (10.4.9) | i686 | OK | OK |
| Package: gaggle |
| Version: 1.4.0 |
| Command: D:\biocbld\bbs-2.0-bioc\R\bin\R.exe CMD check gaggle_1.4.0.tar.gz |
| RetCode: 0 |
| Time: 105.9 seconds |
| Status: OK |
| CheckDir: gaggle.Rcheck |
| Warnings: 0 |
* checking for working latex ... OK * using log directory 'D:/biocbld/bbs-2.0-bioc/meat/gaggle.Rcheck' * using R version 2.5.0 (2007-04-23) * checking for file 'gaggle/DESCRIPTION' ... OK * this is package 'gaggle' version '1.4.0' * checking package dependencies ... OK * checking if this is a source package ... OK * checking whether package 'gaggle' can be installed ... OK * checking package directory ... OK * checking for portable file names ... OK * checking DESCRIPTION meta-information ... OK * checking top-level files ... OK * checking index information ... OK * checking package subdirectories ... OK * checking R files for non-ASCII characters ... OK * checking R files for syntax errors ... OK * checking whether the package can be loaded ... OK * checking whether the package can be loaded with stated dependencies ... OK * checking whether the name space can be loaded with stated dependencies ... OK * checking for unstated dependencies in R code ... OK * checking S3 generic/method consistency ... OK * checking replacement functions ... OK * checking foreign function calls ... OK * checking R code for possible problems ... OK * checking Rd files ... OK * checking Rd cross-references ... OK * checking for missing documentation entries ... OK * checking for code/documentation mismatches ... OK * checking Rd \usage sections ... OK * creating gaggle-Ex.R ... OK * checking examples ... OK * checking package vignettes in 'inst/doc' ... OK * creating gaggle-manual.tex ... OK * checking gaggle-manual.tex ... OK
gaggle.Rcheck/00install.out:
installing R.css in D:/biocbld/bbs-2.0-bioc/meat/gaggle.Rcheck
---------- Making package gaggle ------------
adding build stamp to DESCRIPTION
installing NAMESPACE file and metadata
installing R files
installing inst files
installing man source files
installing indices
installing help
>>> Building/Updating help pages for package 'gaggle'
Formats: text html latex example chm
broadcast text html latex chm
gaggleInit text html latex chm
geese text html latex chm
getCluster text html latex chm
getHashMap text html latex chm
getMatrix text html latex chm
getNameList text html latex chm
getNetwork text html latex chm
getSpecies text html latex chm
getTargetGoose text html latex chm
hideGoose text html latex chm
setSpecies text html latex chm
setTargetGoose text html latex chm
showGoose text html latex chm
testGagglePackage text html latex chm
Microsoft HTML Help Compiler 4.74.8702
Compiling d:\biocbld\bbs-2.0-bioc\meat\gaggle.Rcheck\00_pkg_src\gaggle\chm\gaggle.chm
Compile time: 0 minutes, 0 seconds
16 Topics
72 Local links
0 Internet links
1 Graphic
Created d:\biocbld\bbs-2.0-bioc\meat\gaggle.Rcheck\00_pkg_src\gaggle\chm\gaggle.chm, 24,873 bytes
Compression decreased file by 9,377 bytes.
adding MD5 sums
* DONE (gaggle)