Back to the "Multiple platform build/check report"
| Package 68/214 | Hostname | OS | Arch | BUILD | CHECK | BUILD BIN |
gaggle1.4.0Paul ShannonLast Changed Date: 2007-04-24 11:21:48 -0700 Last Changed Rev: 24214 | lamb1 | Linux (SUSE 10.1) | x86_64 | OK | OK | |
| wellington | Linux (SUSE 9.2) | i686 | OK | OK | ||
| churchill | Solaris 2.9 | sparc | OK | ERROR | ||
| lemming | Windows Server 2003 (32-bit) | x64 | OK | OK | OK | |
| liverpool | Windows Server 2003 R2 (32-bit) | x64 | OK | ERROR | OK | |
| derby | Mac OS X (10.4.9) | i686 | [ OK ] | OK |
| Package: gaggle |
| Version: 1.4.0 |
| Command: /Library/Frameworks/R.framework/Resources/bin/R CMD build gaggle |
| RetCode: 0 |
| Time: 8.5 seconds |
| Status: OK |
| PackageFile: gaggle_1.4.0.tar.gz |
* checking for file 'gaggle/DESCRIPTION' ... OK
* preparing 'gaggle':
* checking DESCRIPTION meta-information ... OK
* installing the package to re-build vignettes
* Installing *source* package 'gaggle' ...
** R
** inst
** help
>>> Building/Updating help pages for package 'gaggle'
Formats: text html latex example
broadcast text html latex
gaggleInit text html latex
geese text html latex
getCluster text html latex
getHashMap text html latex
getMatrix text html latex
getNameList text html latex
getNetwork text html latex
getSpecies text html latex
getTargetGoose text html latex
hideGoose text html latex
setSpecies text html latex
setTargetGoose text html latex
showGoose text html latex
testGagglePackage text html latex
** building package indices ...
* DONE (gaggle)
* creating vignettes ... OK
* removing junk files
* checking for LF line-endings in source files
* checking for empty or unneeded directories
* building 'gaggle_1.4.0.tar.gz'