Back to the "Multiple platform build/check report"
| Package 64/214 | Hostname | OS | Arch | BUILD | CHECK | BUILD BIN |
fbat1.0.0Weiliang QiuLast Changed Date: 2007-04-24 11:21:48 -0700 Last Changed Rev: 24214 | lamb1 | Linux (SUSE 10.1) | x86_64 | OK | OK | |
| wellington | Linux (SUSE 9.2) | i686 | OK | OK | ||
| churchill | Solaris 2.9 | sparc | OK | OK | ||
| lemming | Windows Server 2003 (32-bit) | x64 | OK | OK | OK | |
| liverpool | Windows Server 2003 R2 (32-bit) | x64 | OK | OK | OK | |
| derby | Mac OS X (10.4.9) | i686 | [ OK ] | OK |
| Package: fbat |
| Version: 1.0.0 |
| Command: /Library/Frameworks/R.framework/Resources/bin/R CMD build fbat |
| RetCode: 0 |
| Time: 24.5 seconds |
| Status: OK |
| PackageFile: fbat_1.0.0.tar.gz |
* checking for file 'fbat/DESCRIPTION' ... OK
* preparing 'fbat':
* checking DESCRIPTION meta-information ... OK
* cleaning src
* installing the package to re-build vignettes
* Installing *source* package 'fbat' ...
** libs
** arch - i386
gcc-4.0 -arch i386 -isysroot /Developer/SDKs/MacOSX10.4u.sdk -no-cpp-precomp -I/Library/Frameworks/R.framework/Resources/include -I/Library/Frameworks/R.framework/Resources/include/i386 -msse3 -D__NO_MATH_INLINES -fPIC -g -O2 -std=gnu99 -march=nocona -c FBAT.c -o FBAT.o
gcc-4.0 -arch i386 -isysroot /Developer/SDKs/MacOSX10.4u.sdk -no-cpp-precomp -I/Library/Frameworks/R.framework/Resources/include -I/Library/Frameworks/R.framework/Resources/include/i386 -msse3 -D__NO_MATH_INLINES -fPIC -g -O2 -std=gnu99 -march=nocona -c register.c -o register.o
gcc-4.0 -arch i386 -isysroot /Developer/SDKs/MacOSX10.4u.sdk -dynamiclib -Wl,-macosx_version_min -Wl,10.3 -undefined dynamic_lookup -single_module -multiply_defined suppress -L/usr/local/lib -o fbat.so FBAT.o register.o -F/Library/Frameworks/R.framework/.. -framework R
** arch - ppc
gcc-4.0 -arch ppc -isysroot /Developer/SDKs/MacOSX10.4u.sdk -std=gnu99 -no-cpp-precomp -I/Library/Frameworks/R.framework/Resources/include -I/Library/Frameworks/R.framework/Resources/include/ppc -I/usr/local/include -fPIC -g -O2 -c FBAT.c -o FBAT.o
gcc-4.0 -arch ppc -isysroot /Developer/SDKs/MacOSX10.4u.sdk -std=gnu99 -no-cpp-precomp -I/Library/Frameworks/R.framework/Resources/include -I/Library/Frameworks/R.framework/Resources/include/ppc -I/usr/local/include -fPIC -g -O2 -c register.c -o register.o
gcc-4.0 -arch ppc -isysroot /Developer/SDKs/MacOSX10.4u.sdk -std=gnu99 -dynamiclib -Wl,-macosx_version_min -Wl,10.3 -undefined dynamic_lookup -single_module -multiply_defined suppress -L/usr/local/lib -o fbat.so FBAT.o register.o -F/Library/Frameworks/R.framework/.. -framework R
** R
** data
** inst
** save image
Loading required package: MASS
** help
>>> Building/Updating help pages for package 'fbat'
Formats: text html latex example
CAMP text html latex example
checkMarkers text html latex example
fbat text html latex example
geneSet2Ped text html latex example
pedAFreq text html latex example
pedFlagHomo text html latex example
pedGFreq text html latex example
pedHardyWeinberg text html latex example
summaryPvalue text html latex example
viewFlagHomo text html latex example
viewHW text html latex example
viewstat text html latex example
** building package indices ...
Loading required package: methods
Loading required package: combinat
Attaching package: 'combinat'
The following object(s) are masked from package:utils :
combn
Loading required package: xtable
Loading required package: mvtnorm
* DONE (fbat)
* creating vignettes ... OK
* cleaning src
* removing junk files
* checking for LF line-endings in source files
* checking for empty or unneeded directories
* building 'fbat_1.0.0.tar.gz'