Back to the "Multiple platform build/check report"
| Package 63/214 | Hostname | OS | Arch | BUILD | CHECK | BUILD BIN | 
factDesign1.10.0Denise ScholtensLast Changed Date: 2007-04-24 11:21:48 -0700 Last Changed Rev: 24214  | lamb1 | Linux (SUSE 10.1) | x86_64 | OK | OK | |
| wellington | Linux (SUSE 9.2) | i686 | OK | OK | ||
| churchill | Solaris 2.9 | sparc | OK | OK | ||
| lemming | Windows Server 2003 (32-bit) | x64 | [ OK ] | OK | OK | |
| liverpool | Windows Server 2003 R2 (32-bit) | x64 | OK | OK | OK | |
| derby | Mac OS X (10.4.9) | i686 | OK | OK | 
| Package: factDesign | 
| Version: 1.10.0 | 
| Command: D:\biocbld\bbs-2.0-bioc\R\bin\R.exe CMD build factDesign | 
| RetCode: 0 | 
| Time: 31.2 seconds | 
| Status: OK | 
| PackageFile: factDesign_1.10.0.tar.gz | 
* checking for file 'factDesign/DESCRIPTION' ... OK
* preparing 'factDesign':
* checking DESCRIPTION meta-information ... OK
* checking whether 'INDEX' is up-to-date ... NO
* use '--force' to overwrite the existing 'INDEX'
* installing the package to re-build vignettes
installing R.css in D:/biocbld/bbs-2.0-bioc/tmpdir/Rinst789255120
---------- Making package factDesign ------------
  adding build stamp to DESCRIPTION
  installing R files
  installing inst files
  installing data files
  installing man source files
  installing indices
  not zipping data
  installing help
 >>> Building/Updating help pages for package 'factDesign'
     Formats: text html latex example chm 
  contrasts                         text    html    latex   example chm
  estrogen                          text    html    latex   example chm
  findFC                            text    html    latex   example chm
  kRepsOverA                        text    html    latex   example chm
  outliers                          text    html    latex   example chm
Microsoft HTML Help Compiler 4.74.8702
Compiling d:\biocbld\bbs-2.0-bioc\meat\factDesign\chm\factDesign.chm
Compile time: 0 minutes, 0 seconds
6	Topics
14	Local links
0	Internet links
1	Graphic
Created d:\biocbld\bbs-2.0-bioc\meat\factDesign\chm\factDesign.chm, 24,351 bytes
Compression increased file by 102 bytes.
  adding MD5 sums
* DONE (factDesign)
* creating vignettes ... OK
* removing junk files
* checking for LF line-endings in source files
* checking for empty or unneeded directories
* building 'factDesign_1.10.0.tar.gz'