Back to the "Multiple platform build/check report"
| Package 63/214 | Hostname | OS | Arch | BUILD | CHECK | BUILD BIN | 
| factDesign1.10.0Denise ScholtensLast Changed Date: 2007-04-24 11:21:48 -0700 Last Changed Rev: 24214 | lamb1 | Linux (SUSE 10.1) | x86_64 | OK | [ OK ] | |
| wellington | Linux (SUSE 9.2) | i686 | OK | OK | ||
| churchill | Solaris 2.9 | sparc | OK | OK | ||
| lemming | Windows Server 2003 (32-bit) | x64 | OK | OK | OK | |
| liverpool | Windows Server 2003 R2 (32-bit) | x64 | OK | OK | OK | |
| derby | Mac OS X (10.4.9) | i686 | OK | OK | 
| Package: factDesign | 
| Version: 1.10.0 | 
| Command: /home/biocbuild/bbs-2.0-bioc/R/bin/R CMD check factDesign_1.10.0.tar.gz | 
| RetCode: 0 | 
| Time: 33.5 seconds | 
| Status: OK | 
| CheckDir: factDesign.Rcheck | 
| Warnings: 0 | 
* checking for working latex ... OK * using log directory '/home/biocbuild/bbs-2.0-bioc/meat/factDesign.Rcheck' * using R version 2.5.0 (2007-04-23) * checking for file 'factDesign/DESCRIPTION' ... OK * this is package 'factDesign' version '1.10.0' * checking package dependencies ... OK * checking if this is a source package ... OK * checking whether package 'factDesign' can be installed ... OK * checking package directory ... OK * checking for portable file names ... OK * checking for sufficient/correct file permissions ... OK * checking DESCRIPTION meta-information ... OK * checking top-level files ... OK * checking index information ... OK * checking package subdirectories ... OK * checking R files for non-ASCII characters ... OK * checking R files for syntax errors ... OK * checking whether the package can be loaded ... OK * checking whether the package can be loaded with stated dependencies ... OK * checking for unstated dependencies in R code ... OK * checking S3 generic/method consistency ... OK * checking replacement functions ... OK * checking foreign function calls ... OK * checking R code for possible problems ... OK * checking Rd files ... OK * checking Rd cross-references ... OK * checking for missing documentation entries ... OK * checking for code/documentation mismatches ... OK * checking Rd \usage sections ... OK * checking data for non-ASCII characters ... OK * creating factDesign-Ex.R ... OK * checking examples ... OK * checking package vignettes in 'inst/doc' ... OK * creating factDesign-manual.tex ... OK * checking factDesign-manual.tex ... OK
factDesign.Rcheck/00install.out:
* Installing *source* package 'factDesign' ...
** R
** data
** inst
** help
 >>> Building/Updating help pages for package 'factDesign'
     Formats: text html latex example 
  contrasts                         text    html    latex   example
  estrogen                          text    html    latex   example
  findFC                            text    html    latex   example
  kRepsOverA                        text    html    latex   example
  outliers                          text    html    latex   example
** building package indices ...
* DONE (factDesign)