Back to the "Multiple platform build/check report"
| Package 170/214 | Hostname | OS | Arch | BUILD | CHECK | BUILD BIN |
Resourcerer1.10.0Jianhua ZhangLast Changed Date: 2007-04-24 11:21:48 -0700 Last Changed Rev: 24214 | lamb1 | Linux (SUSE 10.1) | x86_64 | OK | OK | |
| wellington | Linux (SUSE 9.2) | i686 | [ OK ] | OK | ||
| churchill | Solaris 2.9 | sparc | ERROR | skipped | ||
| lemming | Windows Server 2003 (32-bit) | x64 | OK | OK | OK | |
| liverpool | Windows Server 2003 R2 (32-bit) | x64 | OK | ERROR | OK | |
| derby | Mac OS X (10.4.9) | i686 | OK | OK |
| Package: Resourcerer |
| Version: 1.10.0 |
| Command: /loc/biocbuild/bbs-2.0-bioc/R/bin/R CMD build Resourcerer |
| RetCode: 0 |
| Time: 24.8 seconds |
| Status: OK |
| PackageFile: Resourcerer_1.10.0.tar.gz |
* checking for file 'Resourcerer/DESCRIPTION' ... OK
* preparing 'Resourcerer':
* checking DESCRIPTION meta-information ... OK
* installing the package to re-build vignettes
* Installing *source* package 'Resourcerer' ...
** R
** inst
** preparing package for lazy loading
Loading required package: Biobase
Loading required package: tools
Welcome to Bioconductor
Vignettes contain introductory material. To view, type
'openVignette()'. To cite Bioconductor, see
'citation("Biobase")' and for packages 'citation(pkgname)'.
Loading required package: AnnBuilder
Loading required package: XML
Loading required package: annotate
** help
>>> Building/Updating help pages for package 'Resourcerer'
Formats: text html latex example
getRsourcerer text html latex example
resourcerer2BioC text html latex example
** building package indices ...
* DONE (Resourcerer)
* creating vignettes ... OK
* removing junk files
* checking for LF line-endings in source files
* checking for empty or unneeded directories
* building 'Resourcerer_1.10.0.tar.gz'