Back to the "Multiple platform build/check report"
| Package 170/214 | Hostname | OS | Arch | BUILD | CHECK | BUILD BIN |
Resourcerer1.10.0Jianhua ZhangLast Changed Date: 2007-04-24 11:21:48 -0700 Last Changed Rev: 24214 | lamb1 | Linux (SUSE 10.1) | x86_64 | OK | OK | |
| wellington | Linux (SUSE 9.2) | i686 | OK | OK | ||
| churchill | Solaris 2.9 | sparc | ERROR | skipped | ||
| lemming | Windows Server 2003 (32-bit) | x64 | OK | OK | OK | |
| liverpool | Windows Server 2003 R2 (32-bit) | x64 | OK | ERROR | [ OK ] | |
| derby | Mac OS X (10.4.9) | i686 | OK | OK |
| Package: Resourcerer |
| Version: 1.10.0 |
| Command: E:\biocbld\bbs-2.0-bioc\R\bin\R.exe CMD INSTALL --build --library=Resourcerer.BUILDBINinstdir Resourcerer_1.10.0.tar.gz |
| RetCode: 0 |
| Time: 17.0 seconds |
| Status: OK |
| PackageFile: Resourcerer_1.10.0.zip |
installing R.css in E:/biocbld/bbs-2.0-bioc/meat/Resourcerer.BUILDBINinstdir
Using auto-selected zip options ''
---------- Making package Resourcerer ------------
adding build stamp to DESCRIPTION
installing NAMESPACE file and metadata
installing R files
installing inst files
installing man source files
installing indices
installing help
>>> Building/Updating help pages for package 'Resourcerer'
Formats: text html latex example chm
getRsourcerer text html latex example chm
resourcerer2BioC text html latex example chm
Microsoft HTML Help Compiler 4.74.8702
Compiling e:\biocbld\bbs-2.0-bioc\meat\R.INSTALL.768\Resourcerer\chm\Resourcerer.chm
Compile time: 0 minutes, 0 seconds
3 Topics
6 Local links
2 Internet links
1 Graphic
Created e:\biocbld\bbs-2.0-bioc\meat\R.INSTALL.768\Resourcerer\chm\Resourcerer.chm, 20,118 bytes
Compression increased file by 4,963 bytes.
preparing package Resourcerer for lazy loading
Loading required package: Biobase
Loading required package: tools
Welcome to Bioconductor
Vignettes contain introductory material. To view, type
'openVignette()'. To cite Bioconductor, see
'citation("Biobase")' and for packages 'citation(pkgname)'.
Loading required package: AnnBuilder
Loading required package: XML
Loading required package: annotate
adding MD5 sums
packaged installation of package 'Resourcerer' as Resourcerer_1.10.0.zip
* DONE (Resourcerer)