Back to the "Multiple platform build/check report"
| Package 162/214 | Hostname | OS | Arch | BUILD | CHECK | BUILD BIN |
RankProd2.8.0Fangxin HongLast Changed Date: 2007-04-24 11:21:48 -0700 Last Changed Rev: 24214 | lamb1 | Linux (SUSE 10.1) | x86_64 | OK | OK | |
| wellington | Linux (SUSE 9.2) | i686 | OK | OK | ||
| churchill | Solaris 2.9 | sparc | OK | OK | ||
| lemming | Windows Server 2003 (32-bit) | x64 | OK | [ OK ] | OK | |
| liverpool | Windows Server 2003 R2 (32-bit) | x64 | OK | OK | OK | |
| derby | Mac OS X (10.4.9) | i686 | OK | OK |
| Package: RankProd |
| Version: 2.8.0 |
| Command: D:\biocbld\bbs-2.0-bioc\R\bin\R.exe CMD check RankProd_2.8.0.tar.gz |
| RetCode: 0 |
| Time: 149.4 seconds |
| Status: OK |
| CheckDir: RankProd.Rcheck |
| Warnings: 0 |
* checking for working latex ... OK * using log directory 'D:/biocbld/bbs-2.0-bioc/meat/RankProd.Rcheck' * using R version 2.5.0 (2007-04-23) * checking for file 'RankProd/DESCRIPTION' ... OK * this is package 'RankProd' version '2.8.0' * checking package dependencies ... OK * checking if this is a source package ... OK * checking whether package 'RankProd' can be installed ... OK * checking package directory ... OK * checking for portable file names ... OK * checking DESCRIPTION meta-information ... OK * checking top-level files ... OK * checking index information ... OK * checking package subdirectories ... OK * checking R files for non-ASCII characters ... OK * checking R files for syntax errors ... OK * checking whether the package can be loaded ... OK * checking whether the package can be loaded with stated dependencies ... OK * checking for unstated dependencies in R code ... OK * checking S3 generic/method consistency ... OK * checking replacement functions ... OK * checking foreign function calls ... OK * checking R code for possible problems ... OK * checking Rd files ... OK * checking Rd cross-references ... OK * checking for missing documentation entries ... OK * checking for code/documentation mismatches ... OK * checking Rd \usage sections ... OK * checking data for non-ASCII characters ... OK * creating RankProd-Ex.R ... OK * checking examples ... OK * checking package vignettes in 'inst/doc' ... OK * creating RankProd-manual.tex ... OK * checking RankProd-manual.tex ... OK
RankProd.Rcheck/00install.out:
installing R.css in D:/biocbld/bbs-2.0-bioc/meat/RankProd.Rcheck
---------- Making package RankProd ------------
adding build stamp to DESCRIPTION
installing R files
installing inst files
installing data files
installing man source files
installing indices
not zipping data
installing help
>>> Building/Updating help pages for package 'RankProd'
Formats: text html latex example chm
RP text html latex example chm
RPadvance text html latex example chm
RSadvance text html latex example chm
RankProd-internal text html latex chm
arab text html latex chm
golub text html latex chm
lymphoma text html latex chm
plotGene text html latex example chm
plotRP text html latex example chm
topGene text html latex example chm
Microsoft HTML Help Compiler 4.74.8702
Compiling d:\biocbld\bbs-2.0-bioc\meat\RankProd.Rcheck\00_pkg_src\RankProd\chm\RankProd.chm
Compile time: 0 minutes, 0 seconds
11 Topics
42 Local links
1 Internet link
1 Graphic
Created d:\biocbld\bbs-2.0-bioc\meat\RankProd.Rcheck\00_pkg_src\RankProd\chm\RankProd.chm, 33,823 bytes
Compression decreased file by 16,217 bytes.
preparing package RankProd for lazy loading
adding MD5 sums
* DONE (RankProd)