Back to the "Multiple platform build/check report"
| Package 162/214 | Hostname | OS | Arch | BUILD | CHECK | BUILD BIN | 
| RankProd2.8.0Fangxin HongLast Changed Date: 2007-04-24 11:21:48 -0700 Last Changed Rev: 24214 | lamb1 | Linux (SUSE 10.1) | x86_64 | OK | OK | |
| wellington | Linux (SUSE 9.2) | i686 | OK | OK | ||
| churchill | Solaris 2.9 | sparc | [ OK ] | OK | ||
| lemming | Windows Server 2003 (32-bit) | x64 | OK | OK | OK | |
| liverpool | Windows Server 2003 R2 (32-bit) | x64 | OK | OK | OK | |
| derby | Mac OS X (10.4.9) | i686 | OK | OK | 
| Package: RankProd | 
| Version: 2.8.0 | 
| Command: /loc/biocbuild/bbs-2.0-bioc/R/bin/R CMD build RankProd | 
| RetCode: 0 | 
| Time: 158.1 seconds | 
| Status: OK | 
| PackageFile: RankProd_2.8.0.tar.gz | 
* checking for file 'RankProd/DESCRIPTION' ... OK
* preparing 'RankProd':
* checking DESCRIPTION meta-information ... OK
* installing the package to re-build vignettes
* Installing *source* package 'RankProd' ...
** R
** data
** inst
** preparing package for lazy loading
** help
 >>> Building/Updating help pages for package 'RankProd'
     Formats: text html latex example 
  RP                                text    html    latex   example
  RPadvance                         text    html    latex   example
  RSadvance                         text    html    latex   example
  RankProd-internal                 text    html    latex
  arab                              text    html    latex
  golub                             text    html    latex
  lymphoma                          text    html    latex
  plotGene                          text    html    latex   example
  plotRP                            text    html    latex   example
  topGene                           text    html    latex   example
** building package indices ...
* DONE (RankProd)
* creating vignettes ... OK
* removing junk files
* checking for LF line-endings in source files
* checking for empty or unneeded directories
* building 'RankProd_2.8.0.tar.gz'