Back to the "Multiple platform build/check report"
| Package 103/214 | Hostname | OS | Arch | BUILD | CHECK | BUILD BIN |
KEGGSOAP1.10.0J. ZhangLast Changed Date: 2007-04-24 11:21:48 -0700 Last Changed Rev: 24214 | lamb1 | Linux (SUSE 10.1) | x86_64 | OK | OK | |
| wellington | Linux (SUSE 9.2) | i686 | OK | OK | ||
| churchill | Solaris 2.9 | sparc | OK | ERROR | ||
| lemming | Windows Server 2003 (32-bit) | x64 | OK | OK | OK | |
| liverpool | Windows Server 2003 R2 (32-bit) | x64 | [ OK ] | OK | OK | |
| derby | Mac OS X (10.4.9) | i686 | OK | OK |
| Package: KEGGSOAP |
| Version: 1.10.0 |
| Command: E:\biocbld\bbs-2.0-bioc\R\bin\R.exe CMD build KEGGSOAP |
| RetCode: 0 |
| Time: 2.8 seconds |
| Status: OK |
| PackageFile: KEGGSOAP_1.10.0.tar.gz |
* checking for file 'KEGGSOAP/DESCRIPTION' ... OK * preparing 'KEGGSOAP': * checking DESCRIPTION meta-information ... OK * removing junk files * checking for LF line-endings in source files * checking for empty or unneeded directories * building 'KEGGSOAP_1.10.0.tar.gz'