Back to the "Multiple platform build/check report"
| Package 103/214 | Hostname | OS | Arch | BUILD | CHECK | BUILD BIN |
KEGGSOAP1.10.0J. ZhangLast Changed Date: 2007-04-24 11:21:48 -0700 Last Changed Rev: 24214 | lamb1 | Linux (SUSE 10.1) | x86_64 | OK | OK | |
| wellington | Linux (SUSE 9.2) | i686 | OK | OK | ||
| churchill | Solaris 2.9 | sparc | OK | ERROR | ||
| lemming | Windows Server 2003 (32-bit) | x64 | OK | OK | OK | |
| liverpool | Windows Server 2003 R2 (32-bit) | x64 | OK | OK | [ OK ] | |
| derby | Mac OS X (10.4.9) | i686 | OK | OK |
| Package: KEGGSOAP |
| Version: 1.10.0 |
| Command: E:\biocbld\bbs-2.0-bioc\R\bin\R.exe CMD INSTALL --build --library=KEGGSOAP.BUILDBINinstdir KEGGSOAP_1.10.0.tar.gz |
| RetCode: 0 |
| Time: 18.0 seconds |
| Status: OK |
| PackageFile: KEGGSOAP_1.10.0.zip |
installing R.css in E:/biocbld/bbs-2.0-bioc/meat/KEGGSOAP.BUILDBINinstdir
Using auto-selected zip options ''
---------- Making package KEGGSOAP ------------
adding build stamp to DESCRIPTION
installing NAMESPACE file and metadata
installing R files
installing man source files
installing indices
installing help
>>> Building/Updating help pages for package 'KEGGSOAP'
Formats: text html latex example chm
KEGGserver text html latex chm
bget text html latex example chm
get.genes.by.motifs text html latex example chm
get.genes.by.organism text html latex example chm
get.genes.by.pathway text html latex example chm
get.motifs.by.gene text html latex example chm
get.paralogs.by.gene text html latex example chm
get.pathways.by.genes text html latex example chm
getBestNeighbors text html latex example chm
list.organisms text html latex example chm
mark.pathway.by.objects text html latex example chm
search.compounds.by.name text html latex example chm
search.glycans.by.name text html latex example chm
Microsoft HTML Help Compiler 4.74.8702
Compiling e:\biocbld\bbs-2.0-bioc\meat\R.INSTALL.2532\KEGGSOAP\chm\KEGGSOAP.chm
Compile time: 0 minutes, 1 second
14 Topics
64 Local links
15 Internet links
1 Graphic
Created e:\biocbld\bbs-2.0-bioc\meat\R.INSTALL.2532\KEGGSOAP\chm\KEGGSOAP.chm, 35,269 bytes
Compression decreased file by 31,284 bytes.
preparing package KEGGSOAP for lazy loading
Loading required package: XML
Loading required package: SSOAP
Loading required package: RCurl
adding MD5 sums
packaged installation of package 'KEGGSOAP' as KEGGSOAP_1.10.0.zip
* DONE (KEGGSOAP)