Back to the "Multiple platform build/check report"
| Package 78/214 | Hostname | OS | Arch | BUILD | CHECK | BUILD BIN | 
GeneticsDesign1.0.0Weiliang QiuLast Changed Date: 2007-04-24 11:21:48 -0700 Last Changed Rev: 24214  | lamb1 | Linux (SUSE 10.1) | x86_64 | OK | OK | |
| wellington | Linux (SUSE 9.2) | i686 | OK | OK | ||
| churchill | Solaris 2.9 | sparc | OK | OK | ||
| lemming | Windows Server 2003 (32-bit) | x64 | OK | OK | [ OK ] | |
| liverpool | Windows Server 2003 R2 (32-bit) | x64 | OK | OK | OK | |
| derby | Mac OS X (10.4.9) | i686 | OK | OK | 
| Package: GeneticsDesign | 
| Version: 1.0.0 | 
| Command: D:\biocbld\bbs-2.0-bioc\R\bin\R.exe CMD INSTALL --build --library=GeneticsDesign.BUILDBINinstdir GeneticsDesign_1.0.0.tar.gz | 
| RetCode: 0 | 
| Time: 9.0 seconds | 
| Status: OK | 
| PackageFile: GeneticsDesign_1.0.0.zip | 
installing R.css in D:/biocbld/bbs-2.0-bioc/meat/GeneticsDesign.BUILDBINinstdir
Using auto-selected zip options ''
---------- Making package GeneticsDesign ------------
  adding build stamp to DESCRIPTION
  installing NAMESPACE file and metadata
  installing R files
  installing inst files
  installing man source files
  installing indices
  installing help
 >>> Building/Updating help pages for package 'GeneticsDesign'
     Formats: text html latex example chm 
  GPC                               text    html    latex   example chm
  gregorius                         text    html    latex   example chm
  power.casectl                     text    html    latex   example chm
Microsoft HTML Help Compiler 4.74.8702
Compiling d:\biocbld\bbs-2.0-bioc\meat\R.INSTALL.7320\GeneticsDesign\chm\GeneticsDesign.chm
Compile time: 0 minutes, 0 seconds
4	Topics
6	Local links
0	Internet links
1	Graphic
Created d:\biocbld\bbs-2.0-bioc\meat\R.INSTALL.7320\GeneticsDesign\chm\GeneticsDesign.chm, 23,387 bytes
Compression increased file by 3,761 bytes.
  preparing package GeneticsDesign for lazy loading
Loading required package: combinat
Attaching package: 'combinat'
	The following object(s) are masked from package:utils :
	 combn 
Loading required package: gdata
Loading required package: mvtnorm
  adding MD5 sums
packaged installation of package 'GeneticsDesign' as GeneticsDesign_1.0.0.zip
* DONE (GeneticsDesign)