Back to the "Multiple platform build/check report"
| Package 78/214 | Hostname | OS | Arch | BUILD | CHECK | BUILD BIN |
GeneticsDesign1.0.0Weiliang QiuLast Changed Date: 2007-04-24 11:21:48 -0700 Last Changed Rev: 24214 | lamb1 | Linux (SUSE 10.1) | x86_64 | OK | [ OK ] | |
| wellington | Linux (SUSE 9.2) | i686 | OK | OK | ||
| churchill | Solaris 2.9 | sparc | OK | OK | ||
| lemming | Windows Server 2003 (32-bit) | x64 | OK | OK | OK | |
| liverpool | Windows Server 2003 R2 (32-bit) | x64 | OK | OK | OK | |
| derby | Mac OS X (10.4.9) | i686 | OK | OK |
| Package: GeneticsDesign |
| Version: 1.0.0 |
| Command: /home/biocbuild/bbs-2.0-bioc/R/bin/R CMD check GeneticsDesign_1.0.0.tar.gz |
| RetCode: 0 |
| Time: 10.5 seconds |
| Status: OK |
| CheckDir: GeneticsDesign.Rcheck |
| Warnings: 0 |
* checking for working latex ... OK * using log directory '/home/biocbuild/bbs-2.0-bioc/meat/GeneticsDesign.Rcheck' * using R version 2.5.0 (2007-04-23) * checking for file 'GeneticsDesign/DESCRIPTION' ... OK * this is package 'GeneticsDesign' version '1.0.0' * checking package dependencies ... OK * checking if this is a source package ... OK * checking whether package 'GeneticsDesign' can be installed ... OK * checking package directory ... OK * checking for portable file names ... OK * checking for sufficient/correct file permissions ... OK * checking DESCRIPTION meta-information ... OK * checking top-level files ... OK * checking index information ... OK * checking package subdirectories ... OK * checking R files for non-ASCII characters ... OK * checking R files for syntax errors ... OK * checking whether the package can be loaded ... OK * checking whether the package can be loaded with stated dependencies ... OK * checking whether the name space can be loaded with stated dependencies ... OK * checking for unstated dependencies in R code ... OK * checking S3 generic/method consistency ... OK * checking replacement functions ... OK * checking foreign function calls ... OK * checking R code for possible problems ... OK * checking Rd files ... OK * checking Rd cross-references ... OK * checking for missing documentation entries ... OK * checking for code/documentation mismatches ... OK * checking Rd \usage sections ... OK * creating GeneticsDesign-Ex.R ... OK * checking examples ... OK * checking package vignettes in 'inst/doc' ... OK * creating GeneticsDesign-manual.tex ... OK * checking GeneticsDesign-manual.tex ... OK
GeneticsDesign.Rcheck/00install.out:
* Installing *source* package 'GeneticsDesign' ...
** R
** inst
** preparing package for lazy loading
Loading required package: combinat
Attaching package: 'combinat'
The following object(s) are masked from package:utils :
combn
Loading required package: gdata
Loading required package: mvtnorm
** help
>>> Building/Updating help pages for package 'GeneticsDesign'
Formats: text html latex example
GPC text html latex example
gregorius text html latex example
power.casectl text html latex example
** building package indices ...
* DONE (GeneticsDesign)