Back to the "Multiple platform build/check report"
| Package 52/208 | OS | Arch | BUILD | CHECK | BUILD BIN |
DynDoc1.13.1Biocore Team | Linux (SUSE 9.2) | x86_64 | OK | ERROR | |
| Linux (SUSE 10.1) | x86_64 | OK | ERROR | ||
| Linux (SUSE 9.2) | i686 | [ OK ] | ERROR | ||
| Solaris 2.9 | sparc | OK | ERROR | ||
| Windows Server 2003 | x86_64 | OK | ERROR | OK | |
| Windows Server 2003 | NA | OK | ERROR | OK | |
| Mac OS X (10.4.6) | i686 | OK | ERROR |
| Package: DynDoc |
| Version: 1.13.1 |
| Command: /loc/biocbuild/2.0d/R/bin/R CMD build DynDoc |
| RetCode: 0 |
| Time: 10.5 seconds |
| Status: OK |
| PackageFile: DynDoc_1.13.1.tar.gz |
* checking for file 'DynDoc/DESCRIPTION' ... OK * preparing 'DynDoc': * checking DESCRIPTION meta-information ... OK * removing junk files * checking for LF line-endings in source files * checking for empty or unneeded directories * building 'DynDoc_1.13.1.tar.gz'