1.5.0Biocore Team | Linux (SUSE 9.2)  | x86_64 |  OK  |  ERROR  |  | 
| Linux (SUSE 10.1)  | x86_64 |  OK  |  ERROR  |  | 
| Linux (SUSE 9.2)  | i686 |  OK  |  ERROR  |  | 
| Solaris 2.9  | sparc |  OK  |  ERROR  |  | 
| Windows Server 2003  | x86_64 |  OK  |  ERROR  | [ OK ] | 
| Windows Server 2003  | NA |  OK  |  ERROR  |  OK  | 
| Mac OS X (10.4.6)  | i686 |  OK  |  ERROR  |  | 
Using auto-selected zip options ''
---------- Making package exprExternal ------------
  adding build stamp to DESCRIPTION
  installing R files
  installing man source files
  installing indices
  installing help
 >>> Building/Updating help pages for package 'exprExternal'
     Formats: text html latex example chm 
  exprExternal-class                text    html    latex   example chm
Microsoft HTML Help Compiler 4.74.8702
Compiling d:\biocbld\2.0d\Rpacks\R.INSTALL\exprExternal\chm\exprExternal.chm
Compile time: 0 minutes, 0 seconds
2	Topics
12	Local links
0	Internet links
1	Graphic
Created d:\biocbld\2.0d\Rpacks\R.INSTALL\exprExternal\chm\exprExternal.chm, 19,425 bytes
Compression increased file by 3,418 bytes.
  adding MD5 sums
packaged installation of package 'exprExternal' as exprExternal_1.5.0.zip
* DONE (exprExternal)