Back to the "Multiple platform build/check report"
| Package 58/208 | OS | Arch | BUILD | CHECK | BUILD BIN | 
exprExternal1.5.0Biocore Team | Linux (SUSE 9.2) | x86_64 | OK | ERROR | |
| Linux (SUSE 10.1) | x86_64 | [ OK ] | ERROR | ||
| Linux (SUSE 9.2) | i686 | OK | ERROR | ||
| Solaris 2.9 | sparc | OK | ERROR | ||
| Windows Server 2003 | x86_64 | OK | ERROR | OK | |
| Windows Server 2003 | NA | OK | ERROR | OK | |
| Mac OS X (10.4.6) | i686 | OK | ERROR | 
| Package: exprExternal | 
| Version: 1.5.0 | 
| Command: /home/biocbuild/2.0d/R/bin/R CMD build exprExternal | 
| RetCode: 0 | 
| Time: 0.5 seconds | 
| Status: OK | 
| PackageFile: exprExternal_1.5.0.tar.gz | 
* checking for file 'exprExternal/DESCRIPTION' ... OK * preparing 'exprExternal': * checking DESCRIPTION meta-information ... OK * removing junk files * checking for LF line-endings in source files * checking for empty or unneeded directories * building 'exprExternal_1.5.0.tar.gz'