Using auto-selected zip options ''
---------- Making package GEOquery ------------
  adding build stamp to DESCRIPTION
  installing NAMESPACE file and metadata
  installing R files
  installing inst files
  installing man source files
  installing indices
  installing help
 >>> Building/Updating help pages for package 'GEOquery'
     Formats: text html latex example chm 
  GDS-class                         text    html    latex           chm
  GDS2MA                            text    html    latex   example chm
  GEOData-class                     text    html    latex           chm
  GEODataTable-class                text    html    latex           chm
  GPL-class                         text    html    latex           chm
  GSE-class                         text    html    latex           chm
  GSM-class                         text    html    latex           chm
  dataTable                         text    html    latex           chm
  getGEO                            text    html    latex   example chm
  getGEOfile                        text    html    latex   example chm
  parseGEO                          text    html    latex           chm
Microsoft HTML Help Compiler 4.74.8702
Compiling d:\biocbld\2.0d\Rpacks\R.INSTALL\GEOquery\chm\GEOquery.chm
Compile time: 0 minutes, 0 seconds
12	Topics
61	Local links
1	Internet link
1	Graphic
Created d:\biocbld\2.0d\Rpacks\R.INSTALL\GEOquery\chm\GEOquery.chm, 28,919 bytes
Compression decreased file by 11,240 bytes.
  adding MD5 sums
packaged installation of package 'GEOquery' as GEOquery_1.9.0.zip
* DONE (GEOquery)