Back to the "Multiple platform build/check report"
| Package 75/208 | OS | Arch | BUILD | CHECK | BUILD BIN | 
GEOquery1.9.0Sean Davis | Linux (SUSE 9.2) | x86_64 | OK | OK | |
| Linux (SUSE 10.1) | x86_64 | OK | OK | ||
| Linux (SUSE 9.2) | i686 | OK | OK | ||
| Solaris 2.9 | sparc | [ OK ] | OK | ||
| Windows Server 2003 | x86_64 | OK | OK | OK | |
| Windows Server 2003 | NA | ERROR | skipped | skipped | |
| Mac OS X (10.4.6) | i686 | OK | OK | 
| Package: GEOquery | 
| Version: 1.9.0 | 
| Command: /loc/biocbuild/2.0d/R/bin/R CMD build GEOquery | 
| RetCode: 0 | 
| Time: 60.1 seconds | 
| Status: OK | 
| PackageFile: GEOquery_1.9.0.tar.gz | 
* checking for file 'GEOquery/DESCRIPTION' ... OK
* preparing 'GEOquery':
* checking DESCRIPTION meta-information ... OK
* installing the package to re-build vignettes
* Installing *source* package 'GEOquery' ...
** R
** inst
** help
 >>> Building/Updating help pages for package 'GEOquery'
     Formats: text html latex example 
  GDS-class                         text    html    latex
  GDS2MA                            text    html    latex   example
  GEOData-class                     text    html    latex
  GEODataTable-class                text    html    latex
  GPL-class                         text    html    latex
  GSE-class                         text    html    latex
  GSM-class                         text    html    latex
  dataTable                         text    html    latex
  getGEO                            text    html    latex   example
  getGEOfile                        text    html    latex   example
  parseGEO                          text    html    latex
** building package indices ...
* DONE (GEOquery)
* creating vignettes ... OK
* removing junk files
* checking for LF line-endings in source files
* checking for empty or unneeded directories
* building 'GEOquery_1.9.0.tar.gz'