0.0.8Biocore Team | Linux (SUSE 9.2)  | x86_64 |  OK  |  WARNINGS  |  | 
| Linux (SUSE 10.1)  | x86_64 | [ OK ] |  WARNINGS  |  | 
| Linux (SUSE 9.2)  | i686 |  OK  |  WARNINGS  |  | 
| Solaris 2.9  | sparc |  OK  |  ERROR  |  | 
| Windows Server 2003  | x86_64 |  OK  |  WARNINGS  |  OK  | 
| Windows Server 2003  | NA |  OK  |  ERROR  |  OK  | 
| Mac OS X (10.4.6)  | i686 |  OK  |  WARNINGS  |  | 
* checking for file 'AnnotationDbi/DESCRIPTION' ... OK
* preparing 'AnnotationDbi':
* checking DESCRIPTION meta-information ... OK
* removing junk files
* checking for LF line-endings in source files
* checking for empty or unneeded directories
WARNING: directory 'AnnotationDbi/inst/SQLiteAnnData.PKG.template/inst/extdata' is empty
* building 'AnnotationDbi_0.0.8.tar.gz'