0.1.3Antoine Lucas | Linux (SUSE 9.2)  | x86_64 | [ OK ] |  OK  |  | 
| Linux (SUSE 10.1)  | x86_64 |  OK  |  OK  |  | 
| Linux (SUSE 9.2)  | i686 |  ERROR  | skipped |  | 
| Solaris 2.9  | sparc |  ERROR  | skipped |  | 
| Windows Server 2003  | x86_64 |  ERROR  | skipped | skipped | 
| Windows Server 2003  | NA |  ERROR  | skipped | skipped | 
| Mac OS X (10.4.6)  | i686 |  ERROR  | skipped |  | 
* checking for file 'GeneRfold/DESCRIPTION' ... OK
* preparing 'GeneRfold':
* checking DESCRIPTION meta-information ... OK
* cleaning src
* running cleanup
* checking whether 'INDEX' is up-to-date ... OK
* installing the package to re-build vignettes
* Installing *source* package 'GeneRfold' ...
checking for gcc... gcc
checking for C compiler default output file name... a.out
checking whether the C compiler works... yes
checking whether we are cross compiling... no
checking for suffix of executables... 
checking for suffix of object files... o
checking whether we are using the GNU C compiler... yes
checking whether gcc accepts -g... yes
checking for gcc option to accept ANSI C... none needed
checking for main in -lRNA... yes
configure: creating ./config.status
config.status: creating src/Makevars
** libs
gcc -std=gnu99 -I/loc/biocbuild/2.0d/R/include -I/loc/biocbuild/2.0d/R/include -I/usr/local/include/  -fPIC -Wno-conversion -I/usr/local/include    -fpic  -g -O2 -Wall -c viennaR.c -o viennaR.o
gcc -std=gnu99 -shared -L/usr/local/lib64 -o GeneRfold.so viennaR.o -L/usr/local/lib/ -lRNA -fPIC   
** R
** inst
** help
 >>> Building/Updating help pages for package 'GeneRfold'
     Formats: text html latex example 
  fold                              text    html    latex   example
  rnaplot                           text    html    latex   example
** building package indices ...
* DONE (GeneRfold)
* creating vignettes ... OK
* cleaning src
* running cleanup
* removing junk files
* checking for LF line-endings in source files
* checking for empty or unneeded directories
* building 'GeneRfold_0.1.3.tar.gz'