| 1.9.0Oleg Sklyar | Linux (SUSE 9.2) | x86_64 | OK | WARNINGS |  | 
| Linux (SUSE 10.1) | x86_64 | OK | WARNINGS |  | 
| Linux (SUSE 9.2) | i686 | OK | WARNINGS |  | 
| Solaris 2.9 | sparc | [ OK ] | WARNINGS |  | 
| Windows Server 2003 | x86_64 | OK | WARNINGS | OK | 
| Windows Server 2003 | NA | OK | ERROR | OK | 
| Mac OS X (10.4.6) | i686 | OK | WARNINGS |  | 
* checking for file 'gff3Plotter/DESCRIPTION' ... OK
* preparing 'gff3Plotter':
* checking DESCRIPTION meta-information ... OK
* installing the package to re-build vignettes
* Installing *source* package 'gff3Plotter' ...
** R
** inst
** save image
[1] "plot.gff"
[1] "plot.gff"
** help
 >>> Building/Updating help pages for package 'gff3Plotter'
     Formats: text html latex example 
  getAttr                           text    html    latex   example
  getTickCoords                     text    html    latex   example
  internals                         text    html    latex
  plot.gff                          text    html    latex   example
  plot.gff.toFile                   text    html    latex   example
  read.gff                          text    html    latex   example
** building package indices ...
* DONE (gff3Plotter)
* creating vignettes ... OK
* removing junk files
* checking for LF line-endings in source files
* checking for empty or unneeded directories
* building 'gff3Plotter_1.9.0.tar.gz'