Back to the "Multiple platform build/check report"
| Package 175/188 | Hostname | OS | Arch | BUILD | CHECK | BUILD BIN | 
| ssize1.6.0Gregory R. WarnesLast Changed Date: 2006-10-03 12:16:03 -0700 Last Changed Rev: 20373 | lamb1 | Linux (SUSE 10.1) | x86_64 | OK | OK | |
| wellington | Linux (SUSE 9.2) | i686 | [ OK ] | OK | ||
| churchill | Solaris 2.9 | sparc | OK | OK | ||
| lemming | Windows Server 2003 | x86_64 | OK | OK | OK | 
| Package: ssize | 
| Version: 1.6.0 | 
| Command: /loc/biocbuild/bbs-1.9/R/bin/R CMD build ssize | 
| RetCode: 0 | 
| Time: 42.3 seconds | 
| Status: OK | 
| PackageFile: ssize_1.6.0.tar.gz | 
* checking for file 'ssize/DESCRIPTION' ... OK
* preparing 'ssize':
* checking DESCRIPTION meta-information ... OK
* installing the package to re-build vignettes
* Installing *source* package 'ssize' ...
** R
** data
** inst
** help
 >>> Building/Updating help pages for package 'ssize'
     Formats: text html latex example 
  exp.sd                            text    html    latex   example
  pow                               text    html    latex   example
** building package indices ...
* DONE (ssize)
* creating vignettes ... OK
* removing junk files
* checking for LF line-endings in source files
* checking for empty or unneeded directories
* building 'ssize_1.6.0.tar.gz'