Back to the "Multiple platform build/check report"
| Package 175/188 | Hostname | OS | Arch | BUILD | CHECK | BUILD BIN |
ssize1.6.0Gregory R. WarnesLast Changed Date: 2006-10-03 12:16:03 -0700 Last Changed Rev: 20373 | lamb1 | Linux (SUSE 10.1) | x86_64 | OK | OK | |
| wellington | Linux (SUSE 9.2) | i686 | OK | OK | ||
| churchill | Solaris 2.9 | sparc | OK | OK | ||
| lemming | Windows Server 2003 | x86_64 | OK | OK | [ OK ] |
| Package: ssize |
| Version: 1.6.0 |
| Command: D:\biocbld\bbs-1.9\R\bin\R.exe CMD INSTALL --build --library=ssize.instdir ssize_1.6.0.tar.gz |
| RetCode: 0 |
| Time: 7.0 seconds |
| Status: OK |
| PackageFile: ssize_1.6.0.zip |
installing R.css in D:/biocbld/bbs-1.9/meat/ssize.instdir
Using auto-selected zip options 'ssize-ZIPDATA=zip'
---------- Making package ssize ------------
adding build stamp to DESCRIPTION
installing R files
installing inst files
installing data files
installing man source files
installing indices
zipping data
installing help
>>> Building/Updating help pages for package 'ssize'
Formats: text html latex example chm
exp.sd text html latex example chm
pow text html latex example chm
Microsoft HTML Help Compiler 4.74.8702
Compiling d:\biocbld\bbs-1.9\meat\R.INSTALL\ssize\chm\ssize.chm
Compile time: 0 minutes, 0 seconds
3 Topics
11 Local links
1 Internet link
1 Graphic
Created d:\biocbld\bbs-1.9\meat\R.INSTALL\ssize\chm\ssize.chm, 20,966 bytes
Compression increased file by 5,512 bytes.
adding MD5 sums
packaged installation of package 'ssize' as ssize_1.6.0.zip
* DONE (ssize)