Back to the "Multiple platform build/check report"
| Package 93/188 | Hostname | OS | Arch | BUILD | CHECK | BUILD BIN | 
| limmaGUI1.10.0Keith SatterleyLast Changed Date: 2006-10-03 12:16:03 -0700 Last Changed Rev: 20373 | lamb1 | Linux (SUSE 10.1) | x86_64 | OK | OK | |
| wellington | Linux (SUSE 9.2) | i686 | [ OK ] | OK | ||
| churchill | Solaris 2.9 | sparc | OK | OK | ||
| lemming | Windows Server 2003 | x86_64 | OK | OK | OK | 
| Package: limmaGUI | 
| Version: 1.10.0 | 
| Command: /loc/biocbuild/bbs-1.9/R/bin/R CMD build limmaGUI | 
| RetCode: 0 | 
| Time: 14.8 seconds | 
| Status: OK | 
| PackageFile: limmaGUI_1.10.0.tar.gz | 
* checking for file 'limmaGUI/DESCRIPTION' ... OK
* preparing 'limmaGUI':
* checking DESCRIPTION meta-information ... OK
* installing the package to re-build vignettes
* Installing *source* package 'limmaGUI' ...
** R
** inst
** preparing package for lazy loading
Loading required package: limma
Loading required package: tcltk
Loading Tcl/Tk interface ... done
** help
 >>> Building/Updating help pages for package 'limmaGUI'
     Formats: text html latex example 
  LGchangelog                       text    html    latex
  limmaGUI                          text    html    latex
** building package indices ...
* DONE (limmaGUI)
* creating vignettes ... OK
* removing junk files
* checking for LF line-endings in source files
* checking for empty or unneeded directories
* building 'limmaGUI_1.10.0.tar.gz'