Back to the "Multiple platform build/check report"
| Package 93/188 | Hostname | OS | Arch | BUILD | CHECK | BUILD BIN |
limmaGUI1.10.0Keith SatterleyLast Changed Date: 2006-10-03 12:16:03 -0700 Last Changed Rev: 20373 | lamb1 | Linux (SUSE 10.1) | x86_64 | OK | OK | |
| wellington | Linux (SUSE 9.2) | i686 | OK | OK | ||
| churchill | Solaris 2.9 | sparc | OK | OK | ||
| lemming | Windows Server 2003 | x86_64 | OK | [ OK ] | OK |
| Package: limmaGUI |
| Version: 1.10.0 |
| Command: D:\biocbld\bbs-1.9\R\bin\R.exe CMD check limmaGUI_1.10.0.tar.gz |
| RetCode: 0 |
| Time: 60.5 seconds |
| Status: OK |
| CheckDir: limmaGUI.Rcheck |
| Warnings: 0 |
* checking for working latex ... OK * using log directory 'D:/biocbld/bbs-1.9/meat/limmaGUI.Rcheck' * using R version 2.4.1 (2006-12-18) * checking for file 'limmaGUI/DESCRIPTION' ... OK * this is package 'limmaGUI' version '1.10.0' * checking package dependencies ... OK * checking if this is a source package ... OK * checking whether package 'limmaGUI' can be installed ... OK * checking package directory ... OK * checking for portable file names ... OK * checking DESCRIPTION meta-information ... OK * checking top-level files ... OK * checking index information ... OK * checking package subdirectories ... OK * checking R files for syntax errors ... OK * checking R files for non-ASCII characters ... OK * checking whether the package can be loaded ... OK * checking whether the package can be loaded with stated dependencies ... OK * checking S3 generic/method consistency ... OK * checking replacement functions ... OK * checking foreign function calls ... OK * checking R code for possible problems ... OK * checking Rd files ... OK * checking Rd cross-references ... OK * checking for missing documentation entries ... OK * checking for code/documentation mismatches ... OK * checking Rd \usage sections ... OK * creating limmaGUI-Ex.R ... OK * checking examples ... OK * checking package vignettes in 'inst/doc' ... OK * creating limmaGUI-manual.tex ... OK * checking limmaGUI-manual.tex ... OK
limmaGUI.Rcheck/00install.out:
installing R.css in D:/biocbld/bbs-1.9/meat/limmaGUI.Rcheck
---------- Making package limmaGUI ------------
adding build stamp to DESCRIPTION
installing R files
installing inst files
installing man source files
installing indices
installing help
>>> Building/Updating help pages for package 'limmaGUI'
Formats: text html latex example chm
LGchangelog text html latex chm
limmaGUI text html latex chm
Microsoft HTML Help Compiler 4.74.8702
Compiling d:\biocbld\bbs-1.9\meat\limmaGUI.Rcheck\00_pkg_src\limmaGUI\chm\limmaGUI.chm
Compile time: 0 minutes, 0 seconds
3 Topics
137 Local links
0 Internet links
1 Graphic
Created d:\biocbld\bbs-1.9\meat\limmaGUI.Rcheck\00_pkg_src\limmaGUI\chm\limmaGUI.chm, 26,463 bytes
Compression decreased file by 36,706 bytes.
preparing package limmaGUI for lazy loading
Loading required package: limma
Loading required package: tcltk
adding MD5 sums
* DONE (limmaGUI)