Back to the "Multiple platform build/check report"
| Package 56/188 | Hostname | OS | Arch | BUILD | CHECK | BUILD BIN |
fdrame1.6.0Effi KenigsbergLast Changed Date: 2006-10-03 12:16:03 -0700 Last Changed Rev: 20373 | lamb1 | Linux (SUSE 10.1) | x86_64 | OK | OK | |
| wellington | Linux (SUSE 9.2) | i686 | OK | OK | ||
| churchill | Solaris 2.9 | sparc | OK | OK | ||
| lemming | Windows Server 2003 | x86_64 | [ OK ] | OK | OK |
| Package: fdrame |
| Version: 1.6.0 |
| Command: D:\biocbld\bbs-1.9\R\bin\R.exe CMD build fdrame |
| RetCode: 0 |
| Time: 14.5 seconds |
| Status: OK |
| PackageFile: fdrame_1.6.0.tar.gz |
* checking for file 'fdrame/DESCRIPTION' ... OK
* preparing 'fdrame':
* checking DESCRIPTION meta-information ... OK
* cleaning src
* installing the package to re-build vignettes
installing R.css in D:/biocbld/bbs-1.9/tmpdir/Rinst607289529
---------- Making package fdrame ------------
adding build stamp to DESCRIPTION
making DLL ...
gcc -Id:/biocbld/bbs-1.9/R/include -Wall -O2 -std=gnu99 -c fdr.c -o fdr.o
windres --include-dir d:/biocbld/bbs-1.9/R/include -i fdrame_res.rc -o fdrame_res.o
gcc -shared -s -o fdrame.dll fdrame.def fdr.o fdrame_res.o -Ld:/biocbld/bbs-1.9/R/bin -lR
... DLL made
installing DLL
installing R files
installing inst files
installing data files
installing man source files
installing indices
not zipping data
installing help
>>> Building/Updating help pages for package 'fdrame'
Formats: text html latex example chm
design text html latex example
exp.arr text html latex example
fdr-internal text html latex
fdrgui text html latex example
fdrma text html latex example
preparing package fdrame for lazy loading
adding MD5 sums
* DONE (fdrame)
* creating vignettes ... OK
* cleaning src
* removing junk files
* checking for LF line-endings in source files
* checking for empty or unneeded directories
WARNING: Removing directory 'fdrame/html' which should only occur in an
installed package
* building 'fdrame_1.6.0.tar.gz'