Back to the "Multiple platform build/check report"
| Package 56/188 | Hostname | OS | Arch | BUILD | CHECK | BUILD BIN |
fdrame1.6.0Effi KenigsbergLast Changed Date: 2006-10-03 12:16:03 -0700 Last Changed Rev: 20373 | lamb1 | Linux (SUSE 10.1) | x86_64 | OK | OK | |
| wellington | Linux (SUSE 9.2) | i686 | OK | OK | ||
| churchill | Solaris 2.9 | sparc | OK | OK | ||
| lemming | Windows Server 2003 | x86_64 | OK | OK | [ OK ] |
| Package: fdrame |
| Version: 1.6.0 |
| Command: D:\biocbld\bbs-1.9\R\bin\R.exe CMD INSTALL --build --library=fdrame.instdir fdrame_1.6.0.tar.gz |
| RetCode: 0 |
| Time: 9.0 seconds |
| Status: OK |
| PackageFile: fdrame_1.6.0.zip |
installing R.css in D:/biocbld/bbs-1.9/meat/fdrame.instdir
Using auto-selected zip options 'fdrame-ZIPDATA=zip'
---------- Making package fdrame ------------
adding build stamp to DESCRIPTION
making DLL ...
making fdr.d from fdr.c
gcc -ID:/biocbld/bbs-1.9/R/include -Wall -O2 -std=gnu99 -c fdr.c -o fdr.o
windres --include-dir D:/biocbld/bbs-1.9/R/include -i fdrame_res.rc -o fdrame_res.o
gcc -shared -s -o fdrame.dll fdrame.def fdr.o fdrame_res.o -LD:/biocbld/bbs-1.9/R/bin -lR
... DLL made
installing DLL
installing R files
installing inst files
installing data files
installing man source files
installing indices
zipping data
installing help
>>> Building/Updating help pages for package 'fdrame'
Formats: text html latex example chm
design text html latex example chm
exp.arr text html latex example chm
fdr-internal text html latex chm
fdrgui text html latex example chm
fdrma text html latex example chm
Microsoft HTML Help Compiler 4.74.8702
Compiling d:\biocbld\bbs-1.9\meat\R.INSTALL\fdrame\chm\fdrame.chm
Compile time: 0 minutes, 0 seconds
6 Topics
9 Local links
0 Internet links
1 Graphic
Created d:\biocbld\bbs-1.9\meat\R.INSTALL\fdrame\chm\fdrame.chm, 21,509 bytes
Compression decreased file by 49 bytes.
preparing package fdrame for lazy loading
adding MD5 sums
packaged installation of package 'fdrame' as fdrame_1.6.0.zip
* DONE (fdrame)