Back to the "Multiple platform build/check report"
| Package 22/188 | Hostname | OS | Arch | BUILD | CHECK | BUILD BIN |
arrayQCplot2.2.0Eun-kyung LeeLast Changed Date: 2006-10-03 12:16:03 -0700 Last Changed Rev: 20373 | lamb1 | Linux (SUSE 10.1) | x86_64 | OK | OK | |
| wellington | Linux (SUSE 9.2) | i686 | OK | ERROR | ||
| churchill | Solaris 2.9 | sparc | OK | ERROR | ||
| lemming | Windows Server 2003 | x86_64 | OK | ERROR | [ ERROR ] |
| Package: arrayQCplot |
| Version: 2.2.0 |
| Command: D:\biocbld\bbs-1.9\R\bin\R.exe CMD INSTALL --build --library=arrayQCplot.instdir arrayQCplot_2.2.0.tar.gz |
| RetCode: 1 |
| Time: 7.0 seconds |
| Status: ERROR |
| PackageFile: None |
installing R.css in D:/biocbld/bbs-1.9/meat/arrayQCplot.instdir
Using auto-selected zip options ''
---------- Making package arrayQCplot ------------
adding build stamp to DESCRIPTION
installing R files
installing inst files
installing man source files
installing indices
installing help
>>> Building/Updating help pages for package 'arrayQCplot'
Formats: text html latex example chm
arrayQC.plot text html latex example chm
Microsoft HTML Help Compiler 4.74.8702
Compiling d:\biocbld\bbs-1.9\meat\R.INSTALL\arrayQCplot\chm\arrayQCplot.chm
Compile time: 0 minutes, 0 seconds
2 Topics
2 Local links
0 Internet links
1 Graphic
Created d:\biocbld\bbs-1.9\meat\R.INSTALL\arrayQCplot\chm\arrayQCplot.chm, 15,610 bytes
Compression increased file by 9,239 bytes.
preparing package arrayQCplot for lazy loading
Loading required package: RGtk2
Warning in library(pkg, character.only = TRUE, logical = TRUE, lib.loc = lib.loc) :
there is no package called 'RGtk2'
Error: package 'RGtk2' could not be loaded
Execution halted
make: *** [lazyload] Error 1
*** Installation of arrayQCplot failed ***
Removing 'D:/biocbld/bbs-1.9/meat/arrayQCplot.instdir/arrayQCplot'