* checking for file 'RSNPper/DESCRIPTION' ... OK
* preparing 'RSNPper':
* checking DESCRIPTION meta-information ... OK
* installing the package to re-build vignettes
installing R.css in D:/biocbld/1.9d/tmpdir/Rinst235673669
---------- Making package RSNPper ------------
  adding build stamp to DESCRIPTION
  installing NAMESPACE file and metadata
  installing R files
  installing inst files
  installing man source files
  installing indices
  installing help
 >>> Building/Updating help pages for package 'RSNPper'
     Formats: text html latex example chm 
  SNPperMeta-class                  text    html    latex   example chm
  geneInfo                          text    html    latex   example chm
Microsoft HTML Help Compiler 4.74.8702
Compiling d:\biocbld\1.9d\Rpacks\RSNPper\chm\RSNPper.chm
Compile time: 0 minutes, 0 seconds
3	Topics
34	Local links
0	Internet links
1	Graphic
Created d:\biocbld\1.9d\Rpacks\RSNPper\chm\RSNPper.chm, 21,644 bytes
Compression decreased file by 1,435 bytes.
  adding MD5 sums
* DONE (RSNPper)
* creating vignettes ... OK
* removing junk files
* checking for LF line-endings in source files
* checking for empty or unneeded directories
* building 'RSNPper_1.8.0.tar.gz'