Back to the "Multiple platform build/check report"
| Package 156/188 | OS | Arch | BUILD | CHECK | BUILD BIN | 
RSNPper1.8.0VJ Carey | Linux (SUSE 9.2) | x86_64 | [ TIMEOUT ] | skipped | |
| Linux (SUSE 9.2) | i686 | OK | OK | ||
| Solaris 2.9 | sparc | OK | OK | ||
| Windows Server 2003 | x86_64 | OK | OK | OK | 
| Package: RSNPper | 
| Version: 1.8.0 | 
| Command: /loc/biocbuild/1.9d/R/bin/R CMD build RSNPper | 
| RetCode: None | 
| Time: 2400.1 seconds | 
| Status: TIMEOUT | 
| PackageFile: None | 
* checking for file 'RSNPper/DESCRIPTION' ... OK
* preparing 'RSNPper':
* checking DESCRIPTION meta-information ... OK
* installing the package to re-build vignettes
* Installing *source* package 'RSNPper' ...
** R
** inst
** help
 >>> Building/Updating help pages for package 'RSNPper'
     Formats: text html latex example 
  SNPperMeta-class                  text    html    latex   example
  geneInfo                          text    html    latex   example
** building package indices ...
* DONE (RSNPper)
* creating vignettes ...