Back to the "Multiple platform build/check report"
| Package 67/188 | OS | Arch | BUILD | CHECK | BUILD BIN |
GeneTS2.12.0Korbinian Strimmer | Linux (SUSE 9.2) | x86_64 | OK | OK | |
| Linux (SUSE 9.2) | i686 | OK | OK | ||
| Solaris 2.9 | sparc | OK | OK | ||
| Windows Server 2003 | x86_64 | [ OK ] | OK | OK |
| Package: GeneTS |
| Version: 2.12.0 |
| Command: D:\biocbld\1.9d\R\bin\R.exe CMD build GeneTS |
| RetCode: 0 |
| Time: 2.5 seconds |
| Status: OK |
| PackageFile: GeneTS_2.12.0.tar.gz |
* checking for file 'GeneTS/DESCRIPTION' ... OK * preparing 'GeneTS': * checking DESCRIPTION meta-information ... OK * removing junk files * checking for LF line-endings in source files * checking for empty or unneeded directories * building 'GeneTS_2.12.0.tar.gz'