Back to the "Multiple platform build/check report"
| Package 67/188 | OS | Arch | BUILD | CHECK | BUILD BIN |
GeneTS2.12.0Korbinian Strimmer | Linux (SUSE 9.2) | x86_64 | OK | OK | |
| Linux (SUSE 9.2) | i686 | OK | OK | ||
| Solaris 2.9 | sparc | OK | OK | ||
| Windows Server 2003 | x86_64 | OK | OK | [ OK ] |
| Package: GeneTS |
| Version: 2.12.0 |
| Command: D:\biocbld\1.9d\R\bin\R.exe CMD INSTALL --build GeneTS_2.12.0.tar.gz |
| RetCode: 0 |
| Time: 5.0 seconds |
| Status: OK |
| PackageFile: GeneTS_2.12.0.zip |
Using auto-selected zip options '' ---------- Making package GeneTS ------------ adding build stamp to DESCRIPTION installing R files no man files in this package installing indices installing help adding MD5 sums packaged installation of package 'GeneTS' as GeneTS_2.12.0.zip * DONE (GeneTS)