Back to the "Multiple platform build/check report"
| Package 41/188 | OS | Arch | BUILD | CHECK | BUILD BIN | 
| CoCiteStats1.6.0R. Gentleman | Linux (SUSE 9.2) | x86_64 | OK | OK | |
| Linux (SUSE 9.2) | i686 | OK | OK | ||
| Solaris 2.9 | sparc | OK | OK | ||
| Windows Server 2003 | x86_64 | [ OK ] | OK | OK | 
| Package: CoCiteStats | 
| Version: 1.6.0 | 
| Command: D:\biocbld\1.9d\R\bin\R.exe CMD build CoCiteStats | 
| RetCode: 0 | 
| Time: 1.5 seconds | 
| Status: OK | 
| PackageFile: CoCiteStats_1.6.0.tar.gz | 
* checking for file 'CoCiteStats/DESCRIPTION' ... OK * preparing 'CoCiteStats': * checking DESCRIPTION meta-information ... OK * removing junk files * checking for LF line-endings in source files * checking for empty or unneeded directories * building 'CoCiteStats_1.6.0.tar.gz'