| 1.6.0R. Gentleman | Linux (SUSE 9.2) | x86_64 | OK | OK |  | 
| Linux (SUSE 9.2) | i686 | OK | OK |  | 
| Solaris 2.9 | sparc | OK | OK |  | 
| Windows Server 2003 | x86_64 | OK | OK | [ OK ] | 
Using auto-selected zip options ''
---------- Making package CoCiteStats ------------
  adding build stamp to DESCRIPTION
  installing NAMESPACE file and metadata
  installing R files
  installing man source files
  installing indices
  installing help
 >>> Building/Updating help pages for package 'CoCiteStats'
     Formats: text html latex example chm 
  actorAdjTable                     text    html    latex   example chm
  gene.gene.statistic               text    html    latex   example chm
  gene.geneslist.sig                text    html    latex   example chm
  gene.geneslist.statistic          text    html    latex   example chm
  paperLen                          text    html    latex   example chm
  twTStats                          text    html    latex   example chm
  twowayTable                       text    html    latex   example chm
Microsoft HTML Help Compiler 4.74.8702
Compiling d:\biocbld\1.9d\Rpacks\R.INSTALL\CoCiteStats\chm\CoCiteStats.chm
Compile time: 0 minutes, 0 seconds
8	Topics
28	Local links
0	Internet links
1	Graphic
Created d:\biocbld\1.9d\Rpacks\R.INSTALL\CoCiteStats\chm\CoCiteStats.chm, 22,316 bytes
Compression decreased file by 1,332 bytes.
  adding MD5 sums
packaged installation of package 'CoCiteStats' as CoCiteStats_1.6.0.zip
* DONE (CoCiteStats)