* checking for file 'weaver/DESCRIPTION' ... OK
* preparing 'weaver':
* checking DESCRIPTION meta-information ... OK
* installing the package to re-build vignettes
installing R.css in E:/hpages/1.9d/tmpdir/Rinst205681369
---------- Making package weaver ------------
adding build stamp to DESCRIPTION
installing R files
installing inst files
installing man source files
installing indices
installing help
>>> Building/Updating help pages for package 'weaver'
Formats: text html latex example chm
weaver text html latex chm
Microsoft HTML Help Compiler 4.74.8702
Compiling e:\hpages\1.9d\Rpacks\weaver\chm\weaver.chm
Compile time: 0 minutes, 0 seconds
2 Topics
3 Local links
1 Internet link
1 Graphic
Created e:\hpages\1.9d\Rpacks\weaver\chm\weaver.chm, 20,251 bytes
Compression increased file by 6,953 bytes.
preparing package weaver for lazy loading
Loading required package: digest
Loading required package: tools
Loading required package: codetools
adding MD5 sums
* DONE (weaver)
* creating vignettes ... OK
* removing junk files
* checking for LF line-endings in source files
* checking for empty or unneeded directories
* building 'weaver_0.1.3.tar.gz'