1.3.37Elizabeth Whalen | Linux (SUSE 9.2) | x86_64 | OK | ERROR | |
Linux (SUSE 9.2) | i686 | OK | ERROR | |
Solaris 2.9 | sparc | OK | WARNINGS | |
Linux (SUSE 10.0) | x86_64 | OK | ERROR | |
Windows Server 2003 | x86_64 | ERROR | skipped | skipped |
Windows XP | i686 | [ ERROR ] | skipped | skipped |
Mac OS X (10.4.6) | i686 | ERROR | skipped | |
* checking for file 'iSNetwork/DESCRIPTION' ... OK
* preparing 'iSNetwork':
* checking DESCRIPTION meta-information ... OK
* installing the package to re-build vignettes
installing R.css in E:/hpages/1.9d/tmpdir/Rinst190446905
---------- Making package iSNetwork ------------
adding build stamp to DESCRIPTION
installing NAMESPACE file and metadata
installing R files
save image
Loading required package: graph
Loading required package: Ruuid
Loading required package: Rgraphviz
Loading required package: geneplotter
Loading required package: annotate
Loading required package: Biobase
Loading required package: tools
Welcome to Bioconductor
Vignettes contain introductory material. To view, type
'openVignette()' or start with 'help(Biobase)'. For details
on reading vignettes, see the openVignette help page.
KernSmooth 2.22 installed
Copyright M. P. Wand 1997
Loading required package: RGtk
Error: package 'RGtk' could not be loaded
In addition: Warning message:
there is no package called 'RGtk' in: library(pkg, character.only = TRUE, logical = TRUE, lib.loc = lib.loc)
Execution halted
execution of package source for 'iSNetwork' failed
make[2]: *** [E:/hpages/1.9d/tmpdir/Rinst190446905/iSNetwork/R/iSNetwork] Error 1
make[1]: *** [all] Error 2
make: *** [pkg-iSNetwork] Error 2
*** Installation of iSNetwork failed ***
Removing 'E:/hpages/1.9d/tmpdir/Rinst190446905/iSNetwork'
ERROR
Installation failed.
Removing 'E:/hpages/1.9d/tmpdir/Rinst190446905'