1.3.37Elizabeth Whalen | Linux (SUSE 9.2) | x86_64 | OK | ERROR | |
Linux (SUSE 9.2) | i686 | OK | ERROR | |
Solaris 2.9 | sparc | OK | WARNINGS | |
Linux (SUSE 10.0) | x86_64 | OK | ERROR | |
Windows Server 2003 | x86_64 | ERROR | skipped | skipped |
Windows XP | i686 | ERROR | skipped | skipped |
Mac OS X (10.4.6) | i686 | [ ERROR ] | skipped | |
* checking for file 'iSNetwork/DESCRIPTION' ... OK
* preparing 'iSNetwork':
* checking DESCRIPTION meta-information ... OK
* installing the package to re-build vignettes
* Installing *source* package 'iSNetwork' ...
** R
** inst
** save image
Loading required package: graph
Loading required package: Ruuid
Loading required package: Rgraphviz
Loading required package: geneplotter
Loading required package: annotate
Loading required package: Biobase
Loading required package: tools
Welcome to Bioconductor
Vignettes contain introductory material. To view, type
'openVignette()' or start with 'help(Biobase)'. For details
on reading vignettes, see the openVignette help page.
KernSmooth 2.22 installed
Copyright M. P. Wand 1997
Loading required package: RGtk
GLib-ERROR **: could not allocate -1 bytes
aborting...
/Library/Frameworks/R.framework/Resources/bin/INSTALL: line 1: 28891 Done ( echo "options(save.image.defaults=${save_image_defaults})"; echo "invisible(.libPaths(c(\"${lib}\", .libPaths()))); .getRequiredPackages()"; ${code_cmd} )
28892 Abort trap | R_DEFAULT_PACKAGES= LC_ALL=C "${R_EXE}" ${R_save_args} ${save_args}
ERROR: execution of package source for 'iSNetwork' failed
** Removing '/private/tmp/Rinst2881166378/iSNetwork'
ERROR
Installation failed.
Removing '/tmp/Rinst2881166378'