Back to the "Multiple platform build/check report"
| Package 159/205 | OS | Arch | BUILD | CHECK | BUILD BIN |
Resourcerer1.7.0Jianhua Zhang | Linux (SUSE 9.2) | x86_64 | OK | OK | |
| Linux (SUSE 9.2) | i686 | OK | OK | ||
| Solaris 2.9 | sparc | OK | OK | ||
| Linux (SUSE 10.0) | x86_64 | OK | OK | ||
| Windows Server 2003 | x86_64 | OK | OK | OK | |
| Windows XP | i686 | OK | [ OK ] | skipped | |
| Mac OS X (10.4.6) | i686 | ERROR | skipped |
| Package: Resourcerer |
| Version: 1.7.0 |
| Command: E:\hpages\1.9d\R\bin\R.exe CMD check Resourcerer_1.7.0.tar.gz |
| RetCode: 0 |
| Time: 95.1 seconds |
| Status: OK |
| CheckDir: Resourcerer.Rcheck |
| Warnings: 0 |
* checking for working latex ... OK * using log directory 'E:/hpages/1.9d/Rpacks/Resourcerer.Rcheck' * using R version 2.4.0 alpha (2006-09-10 r39242) * checking for file 'Resourcerer/DESCRIPTION' ... OK * this is package 'Resourcerer' version '1.7.0' * checking package dependencies ... OK * checking if this is a source package ... OK * checking whether package 'Resourcerer' can be installed ... OK * checking package directory ... OK * checking for portable file names ... OK * checking DESCRIPTION meta-information ... OK * checking top-level files ... OK * checking index information ... OK * checking package subdirectories ... OK * checking R files for syntax errors ... OK * checking R files for non-ASCII characters ... OK * checking whether the package can be loaded ... OK * checking whether the package can be loaded with stated dependencies ... OK * checking whether the name space can be loaded with stated dependencies ... OK * checking S3 generic/method consistency ... OK * checking replacement functions ... OK * checking foreign function calls ... OK * checking R code for possible problems ... OK * checking Rd files ... OK * checking Rd cross-references ... OK * checking for missing documentation entries ... OK * checking for code/documentation mismatches ... OK * checking Rd \usage sections ... OK * creating Resourcerer-Ex.R ... OK * checking examples ... OK * checking package vignettes in 'inst/doc' ... OK * creating Resourcerer-manual.tex ... OK * checking Resourcerer-manual.tex ... OK
Resourcerer.Rcheck/00install.out:
installing R.css in E:/hpages/1.9d/Rpacks/Resourcerer.Rcheck
---------- Making package Resourcerer ------------
adding build stamp to DESCRIPTION
installing NAMESPACE file and metadata
installing R files
installing inst files
installing man source files
installing indices
installing help
>>> Building/Updating help pages for package 'Resourcerer'
Formats: text html latex example chm
getRsourcerer text html latex example chm
resourcerer2BioC text html latex example chm
Microsoft HTML Help Compiler 4.74.8702
Compiling e:\hpages\1.9d\Rpacks\Resourcerer.Rcheck\00_pkg_src\Resourcerer\chm\Resourcerer.chm
Compile time: 0 minutes, 0 seconds
3 Topics
6 Local links
2 Internet links
1 Graphic
Created e:\hpages\1.9d\Rpacks\Resourcerer.Rcheck\00_pkg_src\Resourcerer\chm\Resourcerer.chm, 20,010 bytes
Compression increased file by 4,924 bytes.
preparing package Resourcerer for lazy loading
Loading required package: AnnBuilder
Loading required package: Biobase
Loading required package: tools
Welcome to Bioconductor
Vignettes contain introductory material. To view, type
'openVignette()' or start with 'help(Biobase)'. For details
on reading vignettes, see the openVignette help page.
Loading required package: XML
Loading required package: annotate
Loading required package: RSQLite
Loading required package: DBI
Warning in symbol.C("sqlite3_libversion") : 'symbol.C' is deprecated
adding MD5 sums
* DONE (Resourcerer)