1.7.0Jianhua Zhang | Linux (SUSE 9.2) | x86_64 | OK | OK | |
Linux (SUSE 9.2) | i686 | OK | OK | |
Solaris 2.9 | sparc | OK | OK | |
Linux (SUSE 10.0) | x86_64 | OK | OK | |
Windows Server 2003 | x86_64 | OK | OK | OK |
Windows XP | i686 | OK | OK | skipped |
Mac OS X (10.4.6) | i686 | [ ERROR ] | skipped | |
* checking for file 'Resourcerer/DESCRIPTION' ... OK
* preparing 'Resourcerer':
* checking DESCRIPTION meta-information ... OK
* installing the package to re-build vignettes
* Installing *source* package 'Resourcerer' ...
** R
** inst
** preparing package for lazy loading
Error: package 'AnnBuilder' required by 'Resourcerer' could not be found
Execution halted
ERROR: lazy loading failed for package 'Resourcerer'
** Removing '/private/tmp/Rinst2042153113/Resourcerer'
ERROR
Installation failed.
Removing '/tmp/Rinst2042153113'