1.7.2Jianhua Zhang | Linux (SUSE 9.2)  | x86_64 |  OK  |  WARNINGS  |  | 
| Linux (SUSE 9.2)  | i686 |  OK  |  WARNINGS  |  | 
| Solaris 2.9  | sparc |  OK  |  WARNINGS  |  | 
| Linux (SUSE 10.0)  | x86_64 |  OK  |  WARNINGS  |  | 
| Windows Server 2003  | x86_64 |  OK  |  ERROR  |  ERROR  | 
| Windows XP  | i686 | [ OK ] |  ERROR  | skipped | 
| Mac OS X (10.4.6)  | i686 |  OK  |  ERROR  |  | 
* checking for file 'RdbiPgSQL/DESCRIPTION' ... OK
* preparing 'RdbiPgSQL':
* checking DESCRIPTION meta-information ... OK
* cleaning src
* checking whether 'INDEX' is up-to-date ... NO
* use '--force' to overwrite the existing 'INDEX'
* removing junk files
* checking for LF line-endings in source files
* checking for empty or unneeded directories
* building 'RdbiPgSQL_1.7.2.tar.gz'