Back to the "Multiple platform build/check report"
| Package 84/205 | OS | Arch | BUILD | CHECK | BUILD BIN |
gtkWidgets0.11.0Jianhua Zhang | Linux (SUSE 9.2) | x86_64 | OK | OK | |
| Linux (SUSE 9.2) | i686 | OK | OK | ||
| Solaris 2.9 | sparc | OK | OK | ||
| Linux (SUSE 10.0) | x86_64 | OK | OK | ||
| Windows Server 2003 | x86_64 | [ OK ] | OK | OK | |
| Windows XP | i686 | OK | ERROR | skipped | |
| Mac OS X (10.4.6) | i686 | OK | OK |
| Package: gtkWidgets |
| Version: 0.11.0 |
| Command: D:\biocbld\1.9d\R\bin\R.exe CMD build gtkWidgets |
| RetCode: 0 |
| Time: 1.5 seconds |
| Status: OK |
| PackageFile: gtkWidgets_0.11.0.tar.gz |
* checking for file 'gtkWidgets/DESCRIPTION' ... OK * preparing 'gtkWidgets': * checking DESCRIPTION meta-information ... OK * removing junk files * checking for LF line-endings in source files * checking for empty or unneeded directories * building 'gtkWidgets_0.11.0.tar.gz'