Back to the "Multiple platform build/check report"
| Package 84/205 | OS | Arch | BUILD | CHECK | BUILD BIN |
gtkWidgets0.11.0Jianhua Zhang | Linux (SUSE 9.2) | x86_64 | OK | [ OK ] | |
| Linux (SUSE 9.2) | i686 | OK | OK | ||
| Solaris 2.9 | sparc | OK | OK | ||
| Linux (SUSE 10.0) | x86_64 | OK | OK | ||
| Windows Server 2003 | x86_64 | OK | OK | OK | |
| Windows XP | i686 | OK | ERROR | skipped | |
| Mac OS X (10.4.6) | i686 | OK | OK |
| Package: gtkWidgets |
| Version: 0.11.0 |
| Command: /loc/biocbuild/1.9d/R/bin/R CMD check gtkWidgets_0.11.0.tar.gz |
| RetCode: 0 |
| Time: 60.1 seconds |
| Status: OK |
| CheckDir: gtkWidgets.Rcheck |
| Warnings: 0 |
* checking for working latex ... OK * using log directory '/loc/biocbuild/1.9d/Rpacks/gtkWidgets.Rcheck' * using R version 2.4.0 alpha (2006-09-10 r39242) * checking for file 'gtkWidgets/DESCRIPTION' ... OK * this is package 'gtkWidgets' version '0.11.0' * checking package dependencies ... OK * checking if this is a source package ... OK * checking whether package 'gtkWidgets' can be installed ... OK * checking package directory ... OK * checking for portable file names ... OK * checking for sufficient/correct file permissions ... OK * checking DESCRIPTION meta-information ... OK * checking top-level files ... OK * checking index information ... OK * checking package subdirectories ... OK * checking R files for syntax errors ... OK * checking R files for non-ASCII characters ... OK * checking whether the package can be loaded ... OK * checking whether the package can be loaded with stated dependencies ... OK * checking S3 generic/method consistency ... OK * checking replacement functions ... OK * checking foreign function calls ... OK * checking R code for possible problems ... OK * checking Rd files ... OK * checking Rd cross-references ... OK * checking for missing documentation entries ... OK * checking for code/documentation mismatches ... OK * checking Rd \usage sections ... OK * creating gtkWidgets-Ex.R ... OK * checking examples ... OK * creating gtkWidgets-manual.tex ... OK * checking gtkWidgets-manual.tex ... OK
gtkWidgets.Rcheck/00install.out:
* Installing *source* package 'gtkWidgets' ...
** R
** inst
** save image
Loading required package: DynDoc
Loading required package: tools
[1] "menuItem"
[1] "menuName"
[1] "menuName"
[1] "menuFunc"
[1] "menuFunc"
[1] "menuValue"
[1] "menuValue"
[1] "menuName<-"
[1] "menuName<-"
[1] "menuFunc<-"
[1] "menuFunc<-"
[1] "menuValue<-"
[1] "menuValue<-"
[1] "bioCMWidget"
[1] "menuEnv"
[1] "menuEnv"
[1] "show"
[1] "addMenuItem"
[1] "addMenuItem"
[1] "removeMenuItem"
[1] "removeMenuItem"
[1] "conBoxClear"
[1] "conBoxClear"
[1] "conBoxInsert"
[1] "conBoxInsert"
[1] "menuEnv<-"
[1] "menuEnv<-"
** help
>>> Building/Updating help pages for package 'gtkWidgets'
Formats: text html latex example
DPExplorer text html latex example
bioCMenu-class text html latex example
edgeTrimmer text html latex example
getCListWithVHScroll text html latex example
menuItem-class text html latex example
objectBrowser text html latex example
subExprSet text html latex example
vExplorer text html latex example
** building package indices ...
* DONE (gtkWidgets)