Back to the "Multiple platform build/check report"
| Package 4/205 | OS | Arch | BUILD | CHECK | BUILD BIN | 
| affxparser1.5.4Kasper Daniel Hansen | Linux (SUSE 9.2) | x86_64 | OK | WARNINGS | |
| Linux (SUSE 9.2) | i686 | OK | WARNINGS | ||
| Solaris 2.9 | sparc | OK | ERROR | ||
| Linux (SUSE 10.0) | x86_64 | OK | WARNINGS | ||
| Windows Server 2003 | x86_64 | [ OK ] | WARNINGS | OK | |
| Windows XP | i686 | OK | WARNINGS | OK | |
| Mac OS X (10.4.6) | i686 | OK | WARNINGS | 
| Package: affxparser | 
| Version: 1.5.4 | 
| Command: D:\biocbld\1.9d\R\bin\R.exe CMD build affxparser | 
| RetCode: 0 | 
| Time: 4.5 seconds | 
| Status: OK | 
| PackageFile: affxparser_1.5.4.tar.gz | 
* checking for file 'affxparser/DESCRIPTION' ... OK * preparing 'affxparser': * checking DESCRIPTION meta-information ... OK * cleaning src * removing junk files * checking for LF line-endings in source files * checking for empty or unneeded directories * building 'affxparser_1.5.4.tar.gz'