0.1.17Robert Scharpf | Linux (SUSE 9.2) | x86_64 | OK | ERROR | |
Linux (SUSE 9.2) | i686 | OK | ERROR | |
Solaris 2.9 | sparc | OK | ERROR | |
Linux (SUSE 10.0) | x86_64 | OK | ERROR | |
Windows Server 2003 | x86_64 | OK | ERROR | [ ERROR ] |
Windows XP | i686 | OK | ERROR | skipped |
Mac OS X (10.4.6) | i686 | OK | ERROR | |
Using auto-selected zip options 'SNPscan-ZIPDATA=zip'
---------- Making package SNPscan ------------
adding build stamp to DESCRIPTION
installing R files
Error in tools:::.install_package_code_files(".", "D:/biocbld/1.9d/R/library/SNPscan") :
files in 'Collate' field missing from 'D:/biocbld/1.9d/Rpacks/R.INSTALL/SNPscan/R':
methods-SnpTargetSet.R
offset.R
merge.R
internals.R
plotPair.R
plotSample.R
subset.R
summary.R
plot.R
smoothSNP.R
methods-SnpSummarySet.R
Execution halted
make[2]: *** [D:/biocbld/1.9d/R/library/SNPscan/R/SNPscan] Error 1
make[1]: *** [all] Error 2
make: *** [pkg-SNPscan] Error 2
*** Installation of SNPscan failed ***
Removing 'D:/biocbld/1.9d/R/library/SNPscan'