Back to the "Multiple platform build/check report"
| Package 91/205 | OS | Arch | BUILD | CHECK | BUILD BIN |
Icens1.5.0Biocore Team | Linux (SUSE 9.2) | x86_64 | OK | OK | |
| Linux (SUSE 9.2) | i686 | OK | OK | ||
| Solaris 2.9 | sparc | OK | OK | ||
| Linux (SUSE 10.0) | x86_64 | OK | OK | ||
| Windows Server 2003 | x86_64 | [ OK ] | OK | OK | |
| Windows XP | i686 | OK | OK | skipped | |
| Mac OS X (10.4.6) | i686 | OK | OK |
| Package: Icens |
| Version: 1.5.0 |
| Command: D:\biocbld\1.9d\R\bin\R.exe CMD build Icens |
| RetCode: 0 |
| Time: 2.0 seconds |
| Status: OK |
| PackageFile: Icens_1.5.0.tar.gz |
* checking for file 'Icens/DESCRIPTION' ... OK * preparing 'Icens': * checking DESCRIPTION meta-information ... OK * checking whether 'INDEX' is up-to-date ... NO * use '--force' to overwrite the existing 'INDEX' * removing junk files * checking for LF line-endings in source files * checking for empty or unneeded directories * building 'Icens_1.5.0.tar.gz'