Back to the "Multiple platform build/check report"
| Package 91/205 | OS | Arch | BUILD | CHECK | BUILD BIN |
Icens1.5.0Biocore Team | Linux (SUSE 9.2) | x86_64 | OK | [ OK ] | |
| Linux (SUSE 9.2) | i686 | OK | OK | ||
| Solaris 2.9 | sparc | OK | OK | ||
| Linux (SUSE 10.0) | x86_64 | OK | OK | ||
| Windows Server 2003 | x86_64 | OK | OK | OK | |
| Windows XP | i686 | OK | OK | skipped | |
| Mac OS X (10.4.6) | i686 | OK | OK |
| Package: Icens |
| Version: 1.5.0 |
| Command: /loc/biocbuild/1.9d/R/bin/R CMD check Icens_1.5.0.tar.gz |
| RetCode: 0 |
| Time: 73.8 seconds |
| Status: OK |
| CheckDir: Icens.Rcheck |
| Warnings: 0 |
* checking for working latex ... OK * using log directory '/loc/biocbuild/1.9d/Rpacks/Icens.Rcheck' * using R version 2.4.0 alpha (2006-09-10 r39242) * checking for file 'Icens/DESCRIPTION' ... OK * this is package 'Icens' version '1.5.0' * checking package dependencies ... OK * checking if this is a source package ... OK * checking whether package 'Icens' can be installed ... OK * checking package directory ... OK * checking for portable file names ... OK * checking for sufficient/correct file permissions ... OK * checking DESCRIPTION meta-information ... OK * checking top-level files ... OK * checking index information ... OK * checking package subdirectories ... OK * checking R files for syntax errors ... OK * checking R files for non-ASCII characters ... OK * checking whether the package can be loaded ... OK * checking whether the package can be loaded with stated dependencies ... OK * checking whether the name space can be loaded with stated dependencies ... OK * checking S3 generic/method consistency ... OK * checking replacement functions ... OK * checking foreign function calls ... OK * checking R code for possible problems ... OK * checking Rd files ... OK * checking Rd cross-references ... OK * checking for missing documentation entries ... OK * checking for code/documentation mismatches ... OK * checking Rd \usage sections ... OK * creating Icens-Ex.R ... OK * checking examples ... OK * checking tests ... make[1]: Entering directory `/loc/biocbuild/1.9d/Rpacks/Icens.Rcheck/tests' Running 'testbv.R' Comparing 'testbv.Rout' to 'testbv.Rout.save' ...5,6d4 < < OK make[1]: Leaving directory `/loc/biocbuild/1.9d/Rpacks/Icens.Rcheck/tests' OK * creating Icens-manual.tex ... OK * checking Icens-manual.tex ... OK
Icens.Rcheck/00install.out:
* Installing *source* package 'Icens' ...
** R
** data
** preparing package for lazy loading
Loading required package: survival
Loading required package: splines
** help
>>> Building/Updating help pages for package 'Icens'
Formats: text html latex example
BVcliques text html latex example
BVclmat text html latex example
BVsupport text html latex example
Bisect text html latex
EM text html latex example
EMICM text html latex example
ISDM text html latex example
Icens-internal text html latex
MLEintvl text html latex example
Maclist text html latex example
Macmat text html latex example
PGM text html latex example
PMGA text html latex
Plotboxes text html latex example
VEM text html latex example
cmv text html latex example
cosmesis text html latex example
hiv text html latex example
icsurv text html latex
plot.icsurv text html latex example
pruitt text html latex example
** building package indices ...
* DONE (Icens)