1.5.0Raphael Gottardo | Linux (SUSE 9.2) | x86_64 | OK | OK | |
Linux (SUSE 9.2) | i686 | OK | OK | |
Solaris 2.9 | sparc | OK | OK | |
Linux (SUSE 10.0) | x86_64 | OK | OK | |
Windows Server 2003 | x86_64 | OK | OK | OK |
Windows XP | i686 | OK | OK | skipped |
Mac OS X (10.4.6) | i686 | [ OK ] | OK | |
* checking for file 'bridge/DESCRIPTION' ... OK
* preparing 'bridge':
* checking DESCRIPTION meta-information ... OK
* cleaning src
* installing the package to re-build vignettes
* Installing *source* package 'bridge' ...
** libs
** arch - i386
gcc-4.0 -arch i386 -I/Library/Frameworks/R.framework/Resources/include -I/Library/Frameworks/R.framework/Resources/include/i386 -msse3 -D__NO_MATH_INLINES -fPIC -g -O2 -std=gnu99 -march=pentium-m -mtune=prescott -c bridge2.affy.c -o bridge2.affy.o
bridge2.affy.c: In function 'up_date_w2':
bridge2.affy.c:300: warning: implicit declaration of function 'dirichlet'
gcc-4.0 -arch i386 -I/Library/Frameworks/R.framework/Resources/include -I/Library/Frameworks/R.framework/Resources/include/i386 -msse3 -D__NO_MATH_INLINES -fPIC -g -O2 -std=gnu99 -march=pentium-m -mtune=prescott -c bridge2.c -o bridge2.o
gcc-4.0 -arch i386 -I/Library/Frameworks/R.framework/Resources/include -I/Library/Frameworks/R.framework/Resources/include/i386 -msse3 -D__NO_MATH_INLINES -fPIC -g -O2 -std=gnu99 -march=pentium-m -mtune=prescott -c bridge2_util.c -o bridge2_util.o
bridge2_util.c: In function 'qr_solve':
bridge2_util.c:570: warning: implicit declaration of function 'dqrdc2_'
bridge2_util.c:585: warning: implicit declaration of function 'dqrcf_'
gcc-4.0 -arch i386 -I/Library/Frameworks/R.framework/Resources/include -I/Library/Frameworks/R.framework/Resources/include/i386 -msse3 -D__NO_MATH_INLINES -fPIC -g -O2 -std=gnu99 -march=pentium-m -mtune=prescott -c bridge3.c -o bridge3.o
gcc-4.0 -arch i386 -dynamiclib -Wl,-macosx_version_min -Wl,10.3 -undefined dynamic_lookup -single_module -multiply_defined suppress -L/usr/local/lib -o bridge.so bridge2.affy.o bridge2.o bridge2_util.o bridge3.o -L/Library/Frameworks/R.framework/Resources/lib/i386 -lR -dylib_file libRblas.dylib:/Library/Frameworks/R.framework/Resources/lib/i386/libRblas.dylib
** arch - ppc
gcc-4.0 -arch ppc -I/Library/Frameworks/R.framework/Resources/include -I/Library/Frameworks/R.framework/Resources/include/ppc -I/usr/local/include -fPIC -g -O2 -std=gnu99 -c bridge2.affy.c -o bridge2.affy.o
bridge2.affy.c: In function 'up_date_w2':
bridge2.affy.c:300: warning: implicit declaration of function 'dirichlet'
gcc-4.0 -arch ppc -I/Library/Frameworks/R.framework/Resources/include -I/Library/Frameworks/R.framework/Resources/include/ppc -I/usr/local/include -fPIC -g -O2 -std=gnu99 -c bridge2.c -o bridge2.o
gcc-4.0 -arch ppc -I/Library/Frameworks/R.framework/Resources/include -I/Library/Frameworks/R.framework/Resources/include/ppc -I/usr/local/include -fPIC -g -O2 -std=gnu99 -c bridge2_util.c -o bridge2_util.o
bridge2_util.c: In function 'qr_solve':
bridge2_util.c:570: warning: implicit declaration of function 'dqrdc2_'
bridge2_util.c:585: warning: implicit declaration of function 'dqrcf_'
gcc-4.0 -arch ppc -I/Library/Frameworks/R.framework/Resources/include -I/Library/Frameworks/R.framework/Resources/include/ppc -I/usr/local/include -fPIC -g -O2 -std=gnu99 -c bridge3.c -o bridge3.o
gcc-4.0 -arch ppc -dynamiclib -Wl,-macosx_version_min -Wl,10.3 -undefined dynamic_lookup -single_module -multiply_defined suppress -L/usr/local/lib -o bridge.so bridge2.affy.o bridge2.o bridge2_util.o bridge3.o -L/Library/Frameworks/R.framework/Resources/lib/ppc -lR -dylib_file libRblas.dylib:/Library/Frameworks/R.framework/Resources/lib/ppc/libRblas.dylib
** R
** data
** inst
** help
>>> Building/Updating help pages for package 'bridge'
Formats: text html latex example
bridge.2samples text html latex example
bridge.3samples text html latex example
hiv text html latex
** building package indices ...
* DONE (bridge)
* creating vignettes ... OK
* cleaning src
* removing junk files
* checking for LF line-endings in source files
* checking for empty or unneeded directories
* building 'bridge_1.5.0.tar.gz'