1.5.0Colin A. Smith | Linux (SUSE 9.2)  | x86_64 |  OK  |  WARNINGS  |  | 
| Linux (SUSE 9.2)  | i686 |  OK  |  WARNINGS  |  | 
| Solaris 2.9  | sparc | [ OK ] |  OK  |  | 
| Linux (SUSE 10.0)  | x86_64 |  OK  |  WARNINGS  |  | 
| Windows Server 2003  | x86_64 |  OK  |  WARNINGS  |  OK  | 
| Windows XP  | i686 |  OK  |  WARNINGS  | skipped | 
| Mac OS X (10.4.6)  | i686 |  OK  |  WARNINGS  |  | 
* checking for file 'webbioc/DESCRIPTION' ... OK
* preparing 'webbioc':
* checking DESCRIPTION meta-information ... OK
* installing the package to re-build vignettes
* Installing *source* package 'webbioc' ...
** R
** inst
** save image
Loading required package: affy
Loading required package: Biobase
Loading required package: tools
Welcome to Bioconductor
    Vignettes contain introductory material. To view, type
    'openVignette()' or start with 'help(Biobase)'. For details
    on reading vignettes, see the openVignette help page.
Loading required package: affyio
Loading required package: multtest
Loading required package: survival
Loading required package: splines
Loading required package: annaffy
Loading required package: GO
Loading required package: KEGG
Loading required package: vsn
Loading required package: gcrma
Loading required package: matchprobes
Loading required package: reposTools
[1] FALSE
Warning message:
there is no package called 'reposTools' in: library(package, lib.loc = lib.loc, character.only = TRUE, logical = TRUE,  
** help
 >>> Building/Updating help pages for package 'webbioc'
     Formats: text html latex example 
  installReps                       text    html    latex
  mt.wrapper                        text    html    latex
  qplot                             text    html    latex
  qvalue                            text    html    latex
  qwrite                            text    html    latex
** building package indices ...
* DONE (webbioc)
* creating vignettes ... OK
* removing junk files
* checking for LF line-endings in source files
* checking for empty or unneeded directories
* building 'webbioc_1.5.0.tar.gz'